BEGIN:VCALENDAR
VERSION:2.0
PRODID:-//GatherDC - ECPv6.15.20//NONSGML v1.0//EN
CALSCALE:GREGORIAN
METHOD:PUBLISH
X-ORIGINAL-URL:https://gatherdc.org
X-WR-CALDESC:Events for GatherDC
REFRESH-INTERVAL;VALUE=DURATION:PT1H
X-Robots-Tag:noindex
X-PUBLISHED-TTL:PT1H
BEGIN:VTIMEZONE
TZID:America/New_York
BEGIN:DAYLIGHT
TZOFFSETFROM:-0500
TZOFFSETTO:-0400
TZNAME:EDT
DTSTART:20240310T070000
END:DAYLIGHT
BEGIN:STANDARD
TZOFFSETFROM:-0400
TZOFFSETTO:-0500
TZNAME:EST
DTSTART:20241103T060000
END:STANDARD
BEGIN:DAYLIGHT
TZOFFSETFROM:-0500
TZOFFSETTO:-0400
TZNAME:EDT
DTSTART:20250309T070000
END:DAYLIGHT
BEGIN:STANDARD
TZOFFSETFROM:-0400
TZOFFSETTO:-0500
TZNAME:EST
DTSTART:20251102T060000
END:STANDARD
BEGIN:DAYLIGHT
TZOFFSETFROM:-0500
TZOFFSETTO:-0400
TZNAME:EDT
DTSTART:20260308T070000
END:DAYLIGHT
BEGIN:STANDARD
TZOFFSETFROM:-0400
TZOFFSETTO:-0500
TZNAME:EST
DTSTART:20261101T060000
END:STANDARD
END:VTIMEZONE
BEGIN:VEVENT
DTSTART;TZID=America/New_York:20250813T183000
DTEND;TZID=America/New_York:20250813T203000
DTSTAMP:20260422T065456
CREATED:20251013T235440Z
LAST-MODIFIED:20260108T133921Z
UID:10000344-1755109800-1755117000@gatherdc.org
SUMMARY:Shabbat Clusters and Friends Mid-Season Mixer with the EDCJCC
DESCRIPTION:We’re gathering all of our Shabbat Clusters members and friends for a mid-season hangout at Franklin Hall to celebrate the end of summer. We’ll have camp-themed ice-breakers and activities to say farewell to summer. There will be separate spaces for those in their 20s and 30s/40s so you can hang with others your own age. \nEveryone is welcome\, whether you are part of a Shabbat Cluster or not! Bring your friends to meet current participants and get to know our Cluster Coordinators\, who will share more about the program. Shabbat Clusters are small groups\, including singles\, couples\, and friends\, that meet for monthly potluck Shabbat dinners. You can learn more about Shabbat Clusters at edcjcc.org/shabbatclusters.
URL:https://gatherdc.org/event/shabbat-clusters-and-friends-mid-season-mixer-with-the-edcjcc/
LOCATION:Washington Hebrew Congregation\n(Temple)\n3935 Macomb Street NW\nWashington\, DC 20016\, United States
CATEGORIES:Social
END:VEVENT
END:VCALENDAR