BEGIN:VCALENDAR
VERSION:2.0
PRODID:-//GatherDC - ECPv6.15.20//NONSGML v1.0//EN
CALSCALE:GREGORIAN
METHOD:PUBLISH
X-ORIGINAL-URL:https://gatherdc.org
X-WR-CALDESC:Events for GatherDC
REFRESH-INTERVAL;VALUE=DURATION:PT1H
X-Robots-Tag:noindex
X-PUBLISHED-TTL:PT1H
BEGIN:VTIMEZONE
TZID:America/New_York
BEGIN:DAYLIGHT
TZOFFSETFROM:-0500
TZOFFSETTO:-0400
TZNAME:EDT
DTSTART:20240310T070000
END:DAYLIGHT
BEGIN:STANDARD
TZOFFSETFROM:-0400
TZOFFSETTO:-0500
TZNAME:EST
DTSTART:20241103T060000
END:STANDARD
BEGIN:DAYLIGHT
TZOFFSETFROM:-0500
TZOFFSETTO:-0400
TZNAME:EDT
DTSTART:20250309T070000
END:DAYLIGHT
BEGIN:STANDARD
TZOFFSETFROM:-0400
TZOFFSETTO:-0500
TZNAME:EST
DTSTART:20251102T060000
END:STANDARD
BEGIN:DAYLIGHT
TZOFFSETFROM:-0500
TZOFFSETTO:-0400
TZNAME:EDT
DTSTART:20260308T070000
END:DAYLIGHT
BEGIN:STANDARD
TZOFFSETFROM:-0400
TZOFFSETTO:-0500
TZNAME:EST
DTSTART:20261101T060000
END:STANDARD
END:VTIMEZONE
BEGIN:VEVENT
DTSTART;TZID=America/New_York:20251214T140000
DTEND;TZID=America/New_York:20251214T160000
DTSTAMP:20260420T214958
CREATED:20251222T160535Z
LAST-MODIFIED:20260108T134330Z
UID:10001412-1765720800-1765728000@gatherdc.org
SUMMARY:Dreidel Players Present: Best Hanukkah Show Ever with Sandy Spring Theatre Group
DESCRIPTION:The show is about a ragtag group of mostly Jewish individuals who want to put on their town;’s first Hanukkah play. It tells the story as they try and write and produce a play telling the story of Hanukkah though a series of comedic sketches. \n \nAccommodations: ADA Accessible Venue \n \nOrganization: Sandy Spring Theatre Group and The City of Gaithersburg \n \nLivestream or Virtual: No\, it’s not
URL:https://gatherdc.org/event/dreidel-players-present-best-hanukkah-show-ever-with-sandy-spring-theatre-group-5/
LOCATION:The Gaithersburg Arts Barn\, 311 Kent Square Rd\, Gaithersburg\, Maryland\, 20878\, United States
CATEGORIES:Social
ORGANIZER;CN="Tricia Pisarra":MAILTO:weilertl@aol.com
END:VEVENT
BEGIN:VEVENT
DTSTART;TZID=America/New_York:20251212T200000
DTEND;TZID=America/New_York:20251212T220000
DTSTAMP:20260420T214958
CREATED:20251222T160530Z
LAST-MODIFIED:20260108T134328Z
UID:10001403-1765569600-1765576800@gatherdc.org
SUMMARY:Dreidel Players Present: Best Hanukkah Show Ever with Sandy Spring Theatre Group
DESCRIPTION:The show is about a ragtag group of mostly Jewish individuals who want to put on their town;’s first Hanukkah play. It tells the story as they try and write and produce a play telling the story of Hanukkah though a series of comedic sketches. \n \nAccommodations: ADA Accessible Venue \n \nOrganization: Sandy Spring Theatre Group and The City of Gaithersburg \n \nLivestream or Virtual: No\, it’s not
URL:https://gatherdc.org/event/dreidel-players-present-best-hanukkah-show-ever-with-sandy-spring-theatre-group-4/
LOCATION:The Gaithersburg Arts Barn\, 311 Kent Square Rd\, Gaithersburg\, Maryland\, 20878\, United States
CATEGORIES:Social
ORGANIZER;CN="Tricia Pisarra":MAILTO:weilertl@aol.com
END:VEVENT
BEGIN:VEVENT
DTSTART;TZID=America/New_York:20251207T140000
DTEND;TZID=America/New_York:20251207T160000
DTSTAMP:20260420T214958
CREATED:20251222T160526Z
LAST-MODIFIED:20260108T134326Z
UID:10001393-1765116000-1765123200@gatherdc.org
SUMMARY:Dreidel Players Present: Best Hanukkah Show Ever with Sandy Spring Theatre Group
DESCRIPTION:The show is about a ragtag group of mostly Jewish individuals who want to put on their town;’s first Hanukkah play. It tells the story as they try and write and produce a play telling the story of Hanukkah though a series of comedic sketches. \n \nAccommodations: ADA Accessible Venue \n \nOrganization: Sandy Spring Theatre Group and The City of Gaithersburg \n \nLivestream or Virtual: No\, it’s not
URL:https://gatherdc.org/event/dreidel-players-present-best-hanukkah-show-ever-with-sandy-spring-theatre-group-3/
LOCATION:The Gaithersburg Arts Barn\, 311 Kent Square Rd\, Gaithersburg\, Maryland\, 20878\, United States
CATEGORIES:Social
ORGANIZER;CN="Tricia Pisarra":MAILTO:weilertl@aol.com
END:VEVENT
BEGIN:VEVENT
DTSTART;TZID=America/New_York:20251206T200000
DTEND;TZID=America/New_York:20251206T220000
DTSTAMP:20260420T214958
CREATED:20251222T160521Z
LAST-MODIFIED:20260108T134324Z
UID:10001384-1765051200-1765058400@gatherdc.org
SUMMARY:Dreidel Players Present: Best Hanukkah Show Ever with Sandy Spring Theatre Group
DESCRIPTION:The show is about a ragtag group of mostly Jewish individuals who want to put on their town;’s first Hanukkah play. It tells the story as they try and write and produce a play telling the story of Hanukkah though a series of comedic sketches. \n \nAccommodations: ADA Accessible Venue \n \nOrganization: Sandy Spring Theatre Group and The City of Gaithersburg \n \nLivestream or Virtual: No\, it’s not
URL:https://gatherdc.org/event/dreidel-players-present-best-hanukkah-show-ever-with-sandy-spring-theatre-group-2/
LOCATION:The Gaithersburg Arts Barn\, 311 Kent Square Rd\, Gaithersburg\, Maryland\, 20878\, United States
CATEGORIES:Social
ORGANIZER;CN="Tricia Pisarra":MAILTO:weilertl@aol.com
END:VEVENT
BEGIN:VEVENT
DTSTART;TZID=America/New_York:20251205T200000
DTEND;TZID=America/New_York:20251205T220000
DTSTAMP:20260420T214958
CREATED:20251222T160521Z
LAST-MODIFIED:20260108T134324Z
UID:10001382-1764964800-1764972000@gatherdc.org
SUMMARY:Dreidel Players Present: Best Hanukkah Show Ever with Sandy Spring Theatre Group
DESCRIPTION:The show is about a ragtag group of mostly Jewish individuals who want to put on their town;’s first Hanukkah play. It tells the story as they try and write and produce a play telling the story of Hanukkah though a series of comedic sketches. \n \nAccommodations: ADA Accessible Venue \n \nOrganization: Sandy Spring Theatre Group and The City of Gaithersburg \n \nLivestream or Virtual: No\, it’s not
URL:https://gatherdc.org/event/dreidel-players-present-best-hanukkah-show-ever-with-sandy-spring-theatre-group/
LOCATION:The Gaithersburg Arts Barn\, 311 Kent Square Rd\, Gaithersburg\, Maryland\, 20878\, United States
CATEGORIES:Social
ORGANIZER;CN="Tricia Pisarra":MAILTO:weilertl@aol.com
END:VEVENT
END:VCALENDAR