BEGIN:VCALENDAR
VERSION:2.0
PRODID:-//GatherDC - ECPv6.15.20//NONSGML v1.0//EN
CALSCALE:GREGORIAN
METHOD:PUBLISH
X-WR-CALNAME:GatherDC
X-ORIGINAL-URL:https://gatherdc.org
X-WR-CALDESC:Events for GatherDC
REFRESH-INTERVAL;VALUE=DURATION:PT1H
X-Robots-Tag:noindex
X-PUBLISHED-TTL:PT1H
BEGIN:VTIMEZONE
TZID:America/New_York
BEGIN:DAYLIGHT
TZOFFSETFROM:-0500
TZOFFSETTO:-0400
TZNAME:EDT
DTSTART:20250309T070000
END:DAYLIGHT
BEGIN:STANDARD
TZOFFSETFROM:-0400
TZOFFSETTO:-0500
TZNAME:EST
DTSTART:20251102T060000
END:STANDARD
BEGIN:DAYLIGHT
TZOFFSETFROM:-0500
TZOFFSETTO:-0400
TZNAME:EDT
DTSTART:20260308T070000
END:DAYLIGHT
BEGIN:STANDARD
TZOFFSETFROM:-0400
TZOFFSETTO:-0500
TZNAME:EST
DTSTART:20261101T060000
END:STANDARD
BEGIN:DAYLIGHT
TZOFFSETFROM:-0500
TZOFFSETTO:-0400
TZNAME:EDT
DTSTART:20270314T070000
END:DAYLIGHT
BEGIN:STANDARD
TZOFFSETFROM:-0400
TZOFFSETTO:-0500
TZNAME:EST
DTSTART:20271107T060000
END:STANDARD
END:VTIMEZONE
BEGIN:VEVENT
DTSTART;TZID=America/New_York:20260326T180000
DTEND;TZID=America/New_York:20260326T200000
DTSTAMP:20260422T053430
CREATED:20260227T193428Z
LAST-MODIFIED:20260227T193428Z
UID:10001888-1774548000-1774555200@gatherdc.org
SUMMARY:RAFI: Dinner and Israel Discussion with Moishe House Columbia Heights
DESCRIPTION:Join us for a lively discussion and tasty food as we chat about Israel and the RAFI program over dinner at Satay Club. \n \n \nOrganization: Moishe House Columbia Heights \n \nLivestream or Virtual: No\, it’s not
URL:https://gatherdc.org/event/rafi-dinner-and-israel-discussion-with-moishe-house-columbia-heights/
LOCATION:Satay Club Asian Restaurant & Sushi Bar\, 4654 Wisconsin Ave NW\, Washington\, DC\, 20008\, United States
CATEGORIES:Social
ORGANIZER;CN="Mitchell Finkel":MAILTO:moishehousedc@gmail.com
END:VEVENT
END:VCALENDAR