BEGIN:VCALENDAR
VERSION:2.0
PRODID:-//GatherDC - ECPv6.15.20//NONSGML v1.0//EN
CALSCALE:GREGORIAN
METHOD:PUBLISH
X-ORIGINAL-URL:https://gatherdc.org
X-WR-CALDESC:Events for GatherDC
REFRESH-INTERVAL;VALUE=DURATION:PT1H
X-Robots-Tag:noindex
X-PUBLISHED-TTL:PT1H
BEGIN:VTIMEZONE
TZID:America/New_York
BEGIN:DAYLIGHT
TZOFFSETFROM:-0500
TZOFFSETTO:-0400
TZNAME:EDT
DTSTART:20250309T070000
END:DAYLIGHT
BEGIN:STANDARD
TZOFFSETFROM:-0400
TZOFFSETTO:-0500
TZNAME:EST
DTSTART:20251102T060000
END:STANDARD
BEGIN:DAYLIGHT
TZOFFSETFROM:-0500
TZOFFSETTO:-0400
TZNAME:EDT
DTSTART:20260308T070000
END:DAYLIGHT
BEGIN:STANDARD
TZOFFSETFROM:-0400
TZOFFSETTO:-0500
TZNAME:EST
DTSTART:20261101T060000
END:STANDARD
BEGIN:DAYLIGHT
TZOFFSETFROM:-0500
TZOFFSETTO:-0400
TZNAME:EDT
DTSTART:20270314T070000
END:DAYLIGHT
BEGIN:STANDARD
TZOFFSETFROM:-0400
TZOFFSETTO:-0500
TZNAME:EST
DTSTART:20271107T060000
END:STANDARD
END:VTIMEZONE
BEGIN:VEVENT
DTSTART;TZID=America/New_York:20260328T110000
DTEND;TZID=America/New_York:20260328T140000
DTSTAMP:20260421T101528
CREATED:20260217T184723Z
LAST-MODIFIED:20260217T184723Z
UID:10001853-1774695600-1774706400@gatherdc.org
SUMMARY:Shabbat on the Town: Brunch Edition! with Rodef 2100
DESCRIPTION:Join us for Shabbat on the Town — brunch edition! We’ll have Shabbat morning services together at 11 a.m. and then transition to brunch by about 12:30 p.m. Come for all of the morning or just whichever parts work for you. We’d love to see you there! Exact location will be shared upon registration. \n \n \nOrganization: Rodef 2100 \n \nLivestream or Virtual: No\, it’s not
URL:https://gatherdc.org/event/shabbat-on-the-town-brunch-edition-with-rodef-2100/
LOCATION:Restaurant in NoVA\, United States
CATEGORIES:Other
END:VEVENT
END:VCALENDAR