BEGIN:VCALENDAR
VERSION:2.0
PRODID:-//GatherDC - ECPv6.15.20//NONSGML v1.0//EN
CALSCALE:GREGORIAN
METHOD:PUBLISH
X-ORIGINAL-URL:https://gatherdc.org
X-WR-CALDESC:Events for GatherDC
REFRESH-INTERVAL;VALUE=DURATION:PT1H
X-Robots-Tag:noindex
X-PUBLISHED-TTL:PT1H
BEGIN:VTIMEZONE
TZID:America/New_York
BEGIN:DAYLIGHT
TZOFFSETFROM:-0500
TZOFFSETTO:-0400
TZNAME:EDT
DTSTART:20250309T070000
END:DAYLIGHT
BEGIN:STANDARD
TZOFFSETFROM:-0400
TZOFFSETTO:-0500
TZNAME:EST
DTSTART:20251102T060000
END:STANDARD
BEGIN:DAYLIGHT
TZOFFSETFROM:-0500
TZOFFSETTO:-0400
TZNAME:EDT
DTSTART:20260308T070000
END:DAYLIGHT
BEGIN:STANDARD
TZOFFSETFROM:-0400
TZOFFSETTO:-0500
TZNAME:EST
DTSTART:20261101T060000
END:STANDARD
BEGIN:DAYLIGHT
TZOFFSETFROM:-0500
TZOFFSETTO:-0400
TZNAME:EDT
DTSTART:20270314T070000
END:DAYLIGHT
BEGIN:STANDARD
TZOFFSETFROM:-0400
TZOFFSETTO:-0500
TZNAME:EST
DTSTART:20271107T060000
END:STANDARD
END:VTIMEZONE
BEGIN:VEVENT
DTSTART;TZID=America/New_York:20260420T194500
DTEND;TZID=America/New_York:20260420T221500
DTSTAMP:20260422T112020
CREATED:20260416T192732Z
LAST-MODIFIED:20260416T192732Z
UID:10002046-1776714300-1776723300@gatherdc.org
SUMMARY:Sabbath Queen Screening + Director Q&A with Georgetown University
DESCRIPTION:The Film and Media Studies Program is delighted to welcome acclaimed filmmaker Sandi DuBowski to campus for a special screening. \nSCREENING\nSABBATH QUEEN\nMonday\, April 20 | 7:45 PM\nFollowed by a post-screening discussion with the director \nLogline: SABBATH QUEEN follows Rabbi Amichai Lau-Lavie\, a queer descendant of a long rabbinic dynasty\, as he challenges religious orthodoxy and reimagines Jewish ritual\, identity\, and community in the 21st century. \nAll events will take place in the Film Screening Classroom\, New South\, Upper Level\, Healey Family Student Center. \n—— \nAbout SABBATH QUEEN\nSabbath Queen is a richly observed and deeply personal documentary that explores the intersections of faith\, queerness\, tradition\, and transformation. With unprecedented access\, the film traces Rabbi Lau-Lavie’s journey as he builds a radically inclusive spiritual community\, offering a powerful meditation on belonging and reinvention. \nAbout Sandi DuBowski\nSandi DuBowski is an award-winning filmmaker known for his groundbreaking work at the intersection of religion\, sexuality\, and human rights. His previous films\, including Trembling Before G-d\, have screened at major festivals worldwide and sparked global conversations about identity\, faith\, and inclusion. \nLearn more: https://www.sabbathqueen.com/ \n \nAccommodations: None \n \nOrganization: Georgetown University \n \nLivestream or Virtual: No\, it’s not
URL:https://gatherdc.org/event/sabbath-queen-screening-director-qa-with-georgetown-university/
LOCATION:Georgetown University\, Film and Media Studies Screening Room (located on the upper level of the Healey Family Student Center)\, Healey Family Student Center\, New South\, 3700 Tondorf Rd\, Washington\, DC\, 20057\, United States
CATEGORIES:Social
ORGANIZER;CN="Sandi Dubowski":MAILTO:hello@sabbathqueen.com
END:VEVENT
END:VCALENDAR