BEGIN:VCALENDAR
VERSION:2.0
PRODID:-//GatherDC - ECPv6.15.20//NONSGML v1.0//EN
CALSCALE:GREGORIAN
METHOD:PUBLISH
X-ORIGINAL-URL:https://gatherdc.org
X-WR-CALDESC:Events for GatherDC
REFRESH-INTERVAL;VALUE=DURATION:PT1H
X-Robots-Tag:noindex
X-PUBLISHED-TTL:PT1H
BEGIN:VTIMEZONE
TZID:America/New_York
BEGIN:DAYLIGHT
TZOFFSETFROM:-0500
TZOFFSETTO:-0400
TZNAME:EDT
DTSTART:20250309T070000
END:DAYLIGHT
BEGIN:STANDARD
TZOFFSETFROM:-0400
TZOFFSETTO:-0500
TZNAME:EST
DTSTART:20251102T060000
END:STANDARD
BEGIN:DAYLIGHT
TZOFFSETFROM:-0500
TZOFFSETTO:-0400
TZNAME:EDT
DTSTART:20260308T070000
END:DAYLIGHT
BEGIN:STANDARD
TZOFFSETFROM:-0400
TZOFFSETTO:-0500
TZNAME:EST
DTSTART:20261101T060000
END:STANDARD
BEGIN:DAYLIGHT
TZOFFSETFROM:-0500
TZOFFSETTO:-0400
TZNAME:EDT
DTSTART:20270314T070000
END:DAYLIGHT
BEGIN:STANDARD
TZOFFSETFROM:-0400
TZOFFSETTO:-0500
TZNAME:EST
DTSTART:20271107T060000
END:STANDARD
END:VTIMEZONE
BEGIN:VEVENT
DTSTART;TZID=America/New_York:20260227T181500
DTEND;TZID=America/New_York:20260227T193000
DTSTAMP:20260419T085419
CREATED:20260211T194215Z
LAST-MODIFIED:20260211T194215Z
UID:10001833-1772216100-1772220600@gatherdc.org
SUMMARY:Queer Jews of Color Happy Hour with Bet Mishpachah
DESCRIPTION:Friday\, February 27th at 6:15 PM \nWe invite Jews of Color across the DMV and Baltimore to join Bet Mishpachah for a joyful Shabbat Service and Happy Hour celebrating Black History Month and the vibrant diversity of Jewish life.\nHappy Hour: 6:15 pm (Location shared upon registration) \nShabbat Service at 7:30 pm\, Edlavitch DC Jewish Community Center (EDCJCC) will be led by Rabbi Dr. Koach Baruch Frazier with an evening of song\, prayer\, reflection\, and connection. This gathering is a celebration of Jews of Color and an invitation to bring your full self. \nThis happy hour is a space specifically for Jews of Color to connect and build community. We deeply appreciate allies and ask that this gathering remain reserved for JOC so we can center shared lived experiences. Whether you are a longtime family or new to Bet Mishpachah\, there’s a seat waiting for you. \nCome celebrate with us! \n \n \nOrganization: Bet Mishpachah \n \nLivestream or Virtual: No\, it’s not
URL:https://gatherdc.org/event/queer-jews-of-color-happy-hour-with-bet-mishpachah/
LOCATION:Bet Mishpachah\, 1529 16th St NW\, Washington\, DC\, 20036\, United States
CATEGORIES:Social
ORGANIZER;CN="Nino McQuown":MAILTO:communications@betmish.org
END:VEVENT
END:VCALENDAR