BEGIN:VCALENDAR
VERSION:2.0
PRODID:-//GatherDC - ECPv6.15.20//NONSGML v1.0//EN
CALSCALE:GREGORIAN
METHOD:PUBLISH
X-WR-CALNAME:GatherDC
X-ORIGINAL-URL:https://gatherdc.org
X-WR-CALDESC:Events for GatherDC
REFRESH-INTERVAL;VALUE=DURATION:PT1H
X-Robots-Tag:noindex
X-PUBLISHED-TTL:PT1H
BEGIN:VTIMEZONE
TZID:America/New_York
BEGIN:DAYLIGHT
TZOFFSETFROM:-0500
TZOFFSETTO:-0400
TZNAME:EDT
DTSTART:20240310T070000
END:DAYLIGHT
BEGIN:STANDARD
TZOFFSETFROM:-0400
TZOFFSETTO:-0500
TZNAME:EST
DTSTART:20241103T060000
END:STANDARD
BEGIN:DAYLIGHT
TZOFFSETFROM:-0500
TZOFFSETTO:-0400
TZNAME:EDT
DTSTART:20250309T070000
END:DAYLIGHT
BEGIN:STANDARD
TZOFFSETFROM:-0400
TZOFFSETTO:-0500
TZNAME:EST
DTSTART:20251102T060000
END:STANDARD
BEGIN:DAYLIGHT
TZOFFSETFROM:-0500
TZOFFSETTO:-0400
TZNAME:EDT
DTSTART:20260308T070000
END:DAYLIGHT
BEGIN:STANDARD
TZOFFSETFROM:-0400
TZOFFSETTO:-0500
TZNAME:EST
DTSTART:20261101T060000
END:STANDARD
END:VTIMEZONE
BEGIN:VEVENT
DTSTART;TZID=America/New_York:20251214T160000
DTEND;TZID=America/New_York:20251214T180000
DTSTAMP:20260421T164156
CREATED:20251222T160539Z
LAST-MODIFIED:20260108T134331Z
UID:10001417-1765728000-1765735200@gatherdc.org
SUMMARY:Hanuka Concert with HaKol with Bet Mishpachah
DESCRIPTION:4:00 PM — Doors open\n4:30 PM — HaKol concert & sing-along\n5:00 PM — Candlelighting\, latkes & sufganyot   \nHaKol\, the new Capital Jewish Chorus\, will present their inaugural concert and sing-along to welcome the first night of Hanuka on Sunday\, December 14 at 4:30 PM at the Edlavitch Jewish Community Center of D.C.\, at 16th and Q Streets\, NW.  Doors to Kaye Community Hall will open at 4:00 PM.  \nHaKol’s two dozen singers\, under the baton of conductor and composer Dr. Joshua Fishbein\, will present a 30-minute concert featuring a wide variety of Jewish music. Following HaKol’s performance\, Dr. Fishbein will lead a community sing as we light candles for the first night of Hanuka. Then we’ll feast on delicious latkes and sufganyot and schmooze with old friends and new.  \nThe concert and celebration are co-sponsored by HaKol\, the Edlavitch JCC\, and Bet Mishpachah\, the DC area’s LGBTQ synagogue\, which celebrated our 50th anniversary with a huge gala last month.  Donations will be shared among the three co-sponsors.  \nPlease RSVP below by Dec. 10 so we’ll know how many latkes and sufganyot to order.  After a joyous concert\, you shouldn’t go hungry!\nCost Range: 0 – 18 \n \n \nOrganization: Bet Mishpachah \n \nLivestream or Virtual: No\, it’s not
URL:https://gatherdc.org/event/hanuka-concert-with-hakol-with-bet-mishpachah/
LOCATION:Bet Mishpachah at the Edlavitch DCJCC\, 1529 16th St NW\, Washington\, District of Columbia\, 20036\, United States
CATEGORIES:Social
END:VEVENT
BEGIN:VEVENT
DTSTART;TZID=America/New_York:20251122T123000
DTEND;TZID=America/New_York:20251122T140000
DTSTAMP:20260421T164156
CREATED:20251222T160502Z
LAST-MODIFIED:20260108T134318Z
UID:10001348-1763814600-1763820000@gatherdc.org
SUMMARY:Jewish Rituals for Queer Life Journeys with Bet Mishpachah
DESCRIPTION:Saturday November 22nd at 12:30 pm\, following services\, in-person and on Zoom \nLet’s explore how Jewish ritual can honor and support the unique life journeys of LGBTQ+ individuals. We will examine traditional Jewish lifecycle practices—such as coming of age\, naming\, marriage\, and mourning and discover how they have been reimagined or adapted to reflect queer experiences and identities. Through text study and creative ritual design we will discover how Jewish tradition can be a source of affirmation\, resilience\, and celebration.\nMinimum Suggested Donation Amt: 10 \n \n \nOrganization: Bet Mishpachah \n \nLivestream or Virtual: Yes\, it is
URL:https://gatherdc.org/event/jewish-rituals-for-queer-life-journeys-with-bet-mishpachah/
LOCATION:Bet Mishpachah at the Edlavitch DCJCC\, 1529 16th St NW\, Washington\, District of Columbia\, 20036\, United States
CATEGORIES:Learning
ORGANIZER;CN="Nino McQuown":MAILTO:communications@betmish.org
END:VEVENT
BEGIN:VEVENT
DTSTART;TZID=America/New_York:20251003T183000
DTEND;TZID=America/New_York:20251003T200000
DTSTAMP:20260421T164156
CREATED:20251222T160343Z
LAST-MODIFIED:20260108T134253Z
UID:10001205-1759516200-1759521600@gatherdc.org
SUMMARY:Pink Challah Shabbat with Bet Mishpachah
DESCRIPTION:​All are welcome to join us on Friday\, October 3rd at 7:00 pm as we celebrate Cancer Awareness Month by making our own challah before the start of services at 8:00 pm. We will put the ingredients together at the JCC and then take it home to bake. Participants are asked to bring their own ingredients. A list will be provided upon your RSVP to Mindy at programs@betmish.org.After services\, we will have a guest speaker from Sharsharet\, the Jewish Breast and Ovarian Cancer Community. The Oneg this evening will be sponsored by Mindy Gasthalter to commemorate the 3rd anniversary of her cancer journey. \n \nAccommodations: ADA Accessible Venue \n \nOrganization: Bet Mishpachah \n \nLivestream or Virtual: Yes\, it is
URL:https://gatherdc.org/event/pink-challah-shabbat-with-bet-mishpachah/
LOCATION:Bet Mishpachah at the Edlavitch DCJCC\, 1529 16th St NW\, Washington\, District of Columbia\, 20036\, United States
CATEGORIES:Giving Back
END:VEVENT
END:VCALENDAR