BEGIN:VCALENDAR
VERSION:2.0
PRODID:-//GatherDC - ECPv6.15.20//NONSGML v1.0//EN
CALSCALE:GREGORIAN
METHOD:PUBLISH
X-ORIGINAL-URL:https://gatherdc.org
X-WR-CALDESC:Events for GatherDC
REFRESH-INTERVAL;VALUE=DURATION:PT1H
X-Robots-Tag:noindex
X-PUBLISHED-TTL:PT1H
BEGIN:VTIMEZONE
TZID:America/New_York
BEGIN:DAYLIGHT
TZOFFSETFROM:-0500
TZOFFSETTO:-0400
TZNAME:EDT
DTSTART:20240310T070000
END:DAYLIGHT
BEGIN:STANDARD
TZOFFSETFROM:-0400
TZOFFSETTO:-0500
TZNAME:EST
DTSTART:20241103T060000
END:STANDARD
BEGIN:DAYLIGHT
TZOFFSETFROM:-0500
TZOFFSETTO:-0400
TZNAME:EDT
DTSTART:20250309T070000
END:DAYLIGHT
BEGIN:STANDARD
TZOFFSETFROM:-0400
TZOFFSETTO:-0500
TZNAME:EST
DTSTART:20251102T060000
END:STANDARD
BEGIN:DAYLIGHT
TZOFFSETFROM:-0500
TZOFFSETTO:-0400
TZNAME:EDT
DTSTART:20260308T070000
END:DAYLIGHT
BEGIN:STANDARD
TZOFFSETFROM:-0400
TZOFFSETTO:-0500
TZNAME:EST
DTSTART:20261101T060000
END:STANDARD
END:VTIMEZONE
BEGIN:VEVENT
DTSTART;TZID=America/New_York:20250221T180000
DTEND;TZID=America/New_York:20250221T200000
DTSTAMP:20260421T150052
CREATED:20251222T151451Z
LAST-MODIFIED:20260108T134227Z
UID:10001060-1740160800-1740168000@gatherdc.org
SUMMARY:Jewish Gateways Community Shabbat
DESCRIPTION:Enjoy good company\, delicious food\, and Shabbat blessings. Participate in a mystically inspired seder to mark Tu B’Shvat\, a holiday celebrating the seasons\, nature\, trees\, and the tasty fruits and nuts trees bring to the table. \nThis vegetarian potluck is a wonderful opportunity to come together. We encourage you to bring a dish that incorporates one or more of the symbolic foods for this special holiday. \nMinimum Suggested Donation Amt: $10 \n \n \nOrganization: Jewish Gateways
URL:https://gatherdc.org/event/jewish-gateways-community-shabbat/
LOCATION:Albany Senior Center Multipurpose Room\, 846 Masonic Ave\, Albany\, CA\, 94706\, United States
CATEGORIES:Social
ORGANIZER;CN="Stephanie Besa-Kallens":MAILTO:stephanie@jewishgateways.org
END:VEVENT
END:VCALENDAR