BEGIN:VCALENDAR
VERSION:2.0
PRODID:-//GatherDC - ECPv6.15.20//NONSGML v1.0//EN
CALSCALE:GREGORIAN
METHOD:PUBLISH
X-ORIGINAL-URL:https://gatherdc.org
X-WR-CALDESC:Events for GatherDC
REFRESH-INTERVAL;VALUE=DURATION:PT1H
X-Robots-Tag:noindex
X-PUBLISHED-TTL:PT1H
BEGIN:VTIMEZONE
TZID:America/New_York
BEGIN:DAYLIGHT
TZOFFSETFROM:-0500
TZOFFSETTO:-0400
TZNAME:EDT
DTSTART:20240310T070000
END:DAYLIGHT
BEGIN:STANDARD
TZOFFSETFROM:-0400
TZOFFSETTO:-0500
TZNAME:EST
DTSTART:20241103T060000
END:STANDARD
BEGIN:DAYLIGHT
TZOFFSETFROM:-0500
TZOFFSETTO:-0400
TZNAME:EDT
DTSTART:20250309T070000
END:DAYLIGHT
BEGIN:STANDARD
TZOFFSETFROM:-0400
TZOFFSETTO:-0500
TZNAME:EST
DTSTART:20251102T060000
END:STANDARD
BEGIN:DAYLIGHT
TZOFFSETFROM:-0500
TZOFFSETTO:-0400
TZNAME:EDT
DTSTART:20260308T070000
END:DAYLIGHT
BEGIN:STANDARD
TZOFFSETFROM:-0400
TZOFFSETTO:-0500
TZNAME:EST
DTSTART:20261101T060000
END:STANDARD
END:VTIMEZONE
BEGIN:VEVENT
DTSTART;TZID=America/New_York:20250517T193000
DTEND;TZID=America/New_York:20250517T233000
DTSTAMP:20260420T124720
CREATED:20251016T181026Z
LAST-MODIFIED:20260108T134019Z
UID:10000594-1747510200-1747524600@gatherdc.org
SUMMARY:Havdalah Bonfire and Lag BaOmer Hangout with Herut DC
DESCRIPTION:Welcome to the Herut DC May Havdalah Bonfire and Lag BaOmer Hangout! There will be food. \nThe event starts at 7:30pm where we will have singing and hanging out and we will have Israel education. At 9:05pm we will have Havdallah followed shortly by a Lag BaOmer bonfire. \nCome join us for an evening of delicious food\, great company\, and inspiring conversations. Our event will be held in person\, so get ready to mingle with like-minded individuals who share your passion for Zionism.
URL:https://gatherdc.org/event/havdalah-bonfire-and-lag-baomer-hangout-with-herut-dc/
LOCATION:Air and Space Museum\n600 Independence Ave SW\nWashington\, DC 20560\, United States
CATEGORIES:Social
END:VEVENT
BEGIN:VEVENT
DTSTART;TZID=America/New_York:20250504T103000
DTEND;TZID=America/New_York:20250504T133000
DTSTAMP:20260420T124720
CREATED:20251016T184922Z
LAST-MODIFIED:20260108T134034Z
UID:10000653-1746354600-1746365400@gatherdc.org
SUMMARY:Lunch Service at So Others Might Eat with the Edlavitch DCJCC
DESCRIPTION:Spend your Sunday supporting the clients of So Others Might Eat! SOME’s Dining Room serves over 1\,000 nourishing breakfasts and lunches every day to those experiencing homelessness and poverty\, with support from nearly 10\,000 volunteers annually. Volunteers will assist with plating and passing out meals\, refill drinks\, help with dishwashing\, and clean up and reset the dining room. \nThis volunteer program has limited spots and is open to volunteers ages 13+. All volunteers ages 13-16 must be accompanied by a chaperone. The SOME dining room is located in NE DC\, half a mile from the NOMA Gallaudet Metro. If you have any questions\, please reach out to Mira at msmith@edcjcc.org.
URL:https://gatherdc.org/event/lunch-service-at-so-others-might-eat-with-the-edlavitch-dcjcc/
LOCATION:Air and Space Museum\n600 Independence Ave SW\nWashington\, DC 20560\, United States
CATEGORIES:Giving Back
END:VEVENT
BEGIN:VEVENT
DTSTART;TZID=America/New_York:20250430T180000
DTEND;TZID=America/New_York:20250430T190000
DTSTAMP:20260420T124720
CREATED:20251016T185210Z
LAST-MODIFIED:20260108T134036Z
UID:10000654-1746036000-1746039600@gatherdc.org
SUMMARY:Urban Gardening Night with the Edlavitch DCJCC
DESCRIPTION:Join the EDCJCC at the Latin American Youth Center (LAYC)’s Drop-In Center garden! Started by the JCC in 2020\, we have been helping youth served by the LAYC Drop-In Center grow veggies\, herbs\, and flowers. LAYC serves youth experiencing homelessness and those who are undocumented. The garden provides both a respite area as well as an opportunity for life-skills training. \nNo prior gardening experience is necessary! You can come once\, twice\, or every month. Please note that this opportunity is for volunteers 12+. Questions? Reach out to Sonya at sweisburd@edcjcc.org.
URL:https://gatherdc.org/event/urban-gardening-night-with-the-edlavitch-dcjcc/
LOCATION:Air and Space Museum\n600 Independence Ave SW\nWashington\, DC 20560\, United States
CATEGORIES:Giving Back
END:VEVENT
END:VCALENDAR