BEGIN:VCALENDAR
VERSION:2.0
PRODID:-//GatherDC - ECPv6.15.20//NONSGML v1.0//EN
CALSCALE:GREGORIAN
METHOD:PUBLISH
X-ORIGINAL-URL:https://gatherdc.org
X-WR-CALDESC:Events for GatherDC
REFRESH-INTERVAL;VALUE=DURATION:PT1H
X-Robots-Tag:noindex
X-PUBLISHED-TTL:PT1H
BEGIN:VTIMEZONE
TZID:America/New_York
BEGIN:DAYLIGHT
TZOFFSETFROM:-0500
TZOFFSETTO:-0400
TZNAME:EDT
DTSTART:20240310T070000
END:DAYLIGHT
BEGIN:STANDARD
TZOFFSETFROM:-0400
TZOFFSETTO:-0500
TZNAME:EST
DTSTART:20241103T060000
END:STANDARD
BEGIN:DAYLIGHT
TZOFFSETFROM:-0500
TZOFFSETTO:-0400
TZNAME:EDT
DTSTART:20250309T070000
END:DAYLIGHT
BEGIN:STANDARD
TZOFFSETFROM:-0400
TZOFFSETTO:-0500
TZNAME:EST
DTSTART:20251102T060000
END:STANDARD
BEGIN:DAYLIGHT
TZOFFSETFROM:-0500
TZOFFSETTO:-0400
TZNAME:EDT
DTSTART:20260308T070000
END:DAYLIGHT
BEGIN:STANDARD
TZOFFSETFROM:-0400
TZOFFSETTO:-0500
TZNAME:EST
DTSTART:20261101T060000
END:STANDARD
BEGIN:DAYLIGHT
TZOFFSETFROM:-0500
TZOFFSETTO:-0400
TZNAME:EDT
DTSTART:20270314T070000
END:DAYLIGHT
BEGIN:STANDARD
TZOFFSETFROM:-0400
TZOFFSETTO:-0500
TZNAME:EST
DTSTART:20271107T060000
END:STANDARD
END:VTIMEZONE
BEGIN:VEVENT
DTSTART;TZID=America/New_York:20260201T110000
DTEND;TZID=America/New_York:20260201T123000
DTSTAMP:20260421T074141
CREATED:20260107T172746Z
LAST-MODIFIED:20260108T134354Z
UID:10001541-1769943600-1769949000@gatherdc.org
SUMMARY:Book Brunch: Jewish Stories in Our Own Words with the EDCJCC
DESCRIPTION:What do a Laotian born refugee\, an Indian culinary creator\, a trans improv artist\, a Jewpanese podcaster\, and a Latinx storyteller have in common? They are all Jewish\, and their unique journeys are part of Hyphen\, a gorgeous comics anthology showcasing extraordinary stories of everyday people. Each story is told in the contributor’s own words and brought to life by international artists\, weaving together ancient traditions\, modern journeys\, and deeply personal experiences. \nThe Jewish people today are more diverse than ever in our history. At the heart of Hyphen is the belief that Jewish identity is not one-size-fits-all. By empowering contributors to tell their own stories\, Hyphen is a powerful celebration of what it means to be Jewish today —amplifying voices that have too often been overlooked. \nJoin us for mimosas\, bagels\, and rich conversation with the book’s creators and two featured storytellers. We’re thrilled to welcome Dubbs Weinblatt\, Eddna Samuel\, Fabrice Sapolsky and Julian Voloj in conversation with Chess Jakobs to share queer\, trans\, Indian\, Algerian\, and Colombian Jewish stories on our stage. \n \n \nOrganization: Edlavitch DCJCC \n \nLivestream or Virtual: No\, it’s not
URL:https://gatherdc.org/event/book-brunch-jewish-stories-in-our-own-words-with-the-edcjcc/
LOCATION:Edlavitch DCJCC\, 1529 16th Street NW\, United States
CATEGORIES:Learning
ORGANIZER;CN="Sonya Weisburd":MAILTO:sweisburd@edcjcc.org
END:VEVENT
BEGIN:VEVENT
DTSTART;TZID=America/New_York:20251123T123000
DTEND;TZID=America/New_York:20251123T140000
DTSTAMP:20260421T074141
CREATED:20251222T160506Z
LAST-MODIFIED:20260108T134319Z
UID:10001354-1763901000-1763906400@gatherdc.org
SUMMARY:Everything But The Turkey: Young Professionals Edition with EntryPointDC
DESCRIPTION:Join EntryPoint DC\, Federation’s NextGen\, and young professionals across the DMV to prepare Thanksgiving side dishes for those experiencing hunger and homelessness in our region – we’ll make Everything But The Turkey!\nMinimum Suggested Donation Amt: 20 \n \nAccommodations: ADA Accessible Venue \n \nOrganization: EntryPointDC \n \nLivestream or Virtual: No\, it’s not
URL:https://gatherdc.org/event/everything-but-the-turkey-young-professionals-edition-with-entrypointdc/
LOCATION:Edlavitch DCJCC\, 1529 16th Street NW\, United States
CATEGORIES:Giving Back
ORGANIZER;CN="Sonya Weisburd":MAILTO:sweisburd@edcjcc.org
END:VEVENT
BEGIN:VEVENT
DTSTART;TZID=America/New_York:20250611T190000
DTEND;TZID=America/New_York:20250611T201500
DTSTAMP:20260421T074141
CREATED:20251222T160340Z
LAST-MODIFIED:20260108T134252Z
UID:10001197-1749668400-1749672900@gatherdc.org
SUMMARY:Plant Parenting 101 with the EDCJCC
DESCRIPTION:Do you want to add more life and greenery to your home\, but not sure where to start? Have a passion for houseplants but struggling to keep your little ones alive and well? In this class you will learn the basics of plant care\, decorate a plant holder\, and get to choose and repot your own 6-inch plant to take home. We will also discuss plant selection\, light requirements\, repotting and soil\, and watering techniques and nutrients – all topics that will help you be the best current (or future) houseplant parent! There will be plenty of time for Q&A and the chance to win some prizes from plant trivia. \nYour $25 ticket includes a glass of wine\, snacks\, and everything you need to become a new plant parent. \n \n \nOrganization: Edlavitch DCJCC
URL:https://gatherdc.org/event/plant-parenting-101-with-the-edcjcc/
LOCATION:Edlavitch DCJCC\, 1529 16th Street NW\, United States
CATEGORIES:Social
ORGANIZER;CN="Sonya Weisburd":MAILTO:sweisburd@edcjcc.org
END:VEVENT
END:VCALENDAR