BEGIN:VCALENDAR
VERSION:2.0
PRODID:-//GatherDC - ECPv6.15.20//NONSGML v1.0//EN
CALSCALE:GREGORIAN
METHOD:PUBLISH
X-ORIGINAL-URL:https://gatherdc.org
X-WR-CALDESC:Events for GatherDC
REFRESH-INTERVAL;VALUE=DURATION:PT1H
X-Robots-Tag:noindex
X-PUBLISHED-TTL:PT1H
BEGIN:VTIMEZONE
TZID:America/New_York
BEGIN:DAYLIGHT
TZOFFSETFROM:-0500
TZOFFSETTO:-0400
TZNAME:EDT
DTSTART:20250309T070000
END:DAYLIGHT
BEGIN:STANDARD
TZOFFSETFROM:-0400
TZOFFSETTO:-0500
TZNAME:EST
DTSTART:20251102T060000
END:STANDARD
BEGIN:DAYLIGHT
TZOFFSETFROM:-0500
TZOFFSETTO:-0400
TZNAME:EDT
DTSTART:20260308T070000
END:DAYLIGHT
BEGIN:STANDARD
TZOFFSETFROM:-0400
TZOFFSETTO:-0500
TZNAME:EST
DTSTART:20261101T060000
END:STANDARD
BEGIN:DAYLIGHT
TZOFFSETFROM:-0500
TZOFFSETTO:-0400
TZNAME:EDT
DTSTART:20270314T070000
END:DAYLIGHT
BEGIN:STANDARD
TZOFFSETFROM:-0400
TZOFFSETTO:-0500
TZNAME:EST
DTSTART:20271107T060000
END:STANDARD
END:VTIMEZONE
BEGIN:VEVENT
DTSTART;TZID=America/New_York:20260422T193000
DTEND;TZID=America/New_York:20260422T210000
DTSTAMP:20260421T085553
CREATED:20260406T194340Z
LAST-MODIFIED:20260406T194340Z
UID:10001986-1776886200-1776891600@gatherdc.org
SUMMARY:Mussar Part Two: Freedom with Bet Mishpachah
DESCRIPTION:Mussar is a Jewish practice that helps one to work on incorporating ethical principles in everyday actions. In this course with Rabbi Jake Singer-Beilin of Congregation Bet Mishpachah\, we will study Middot (character traits such as love\, freedom\, and pride). \nThis class series is based in Jewish texts and Jewish practice\, and the work is done through self-reflection\, study\, discussion\, and goal setting. It provides a structure and opportunity to do the work of exploring and discovering your moral character. \n \nAccommodations: Captioning \n \nOrganization: Bet Mishpachah \n \nLivestream or Virtual: Yes\, it is
URL:https://gatherdc.org/event/mussar-part-two-freedom-with-bet-mishpachah/
LOCATION:Zoom\, United States
CATEGORIES:Learning
ORGANIZER;CN="Nino McQuown":MAILTO:communications@betmish.org
END:VEVENT
END:VCALENDAR