BEGIN:VCALENDAR
VERSION:2.0
PRODID:-//GatherDC - ECPv6.15.20//NONSGML v1.0//EN
CALSCALE:GREGORIAN
METHOD:PUBLISH
X-ORIGINAL-URL:https://gatherdc.org
X-WR-CALDESC:Events for GatherDC
REFRESH-INTERVAL;VALUE=DURATION:PT1H
X-Robots-Tag:noindex
X-PUBLISHED-TTL:PT1H
BEGIN:VTIMEZONE
TZID:America/New_York
BEGIN:DAYLIGHT
TZOFFSETFROM:-0500
TZOFFSETTO:-0400
TZNAME:EDT
DTSTART:20250309T070000
END:DAYLIGHT
BEGIN:STANDARD
TZOFFSETFROM:-0400
TZOFFSETTO:-0500
TZNAME:EST
DTSTART:20251102T060000
END:STANDARD
BEGIN:DAYLIGHT
TZOFFSETFROM:-0500
TZOFFSETTO:-0400
TZNAME:EDT
DTSTART:20260308T070000
END:DAYLIGHT
BEGIN:STANDARD
TZOFFSETFROM:-0400
TZOFFSETTO:-0500
TZNAME:EST
DTSTART:20261101T060000
END:STANDARD
BEGIN:DAYLIGHT
TZOFFSETFROM:-0500
TZOFFSETTO:-0400
TZNAME:EDT
DTSTART:20270314T070000
END:DAYLIGHT
BEGIN:STANDARD
TZOFFSETFROM:-0400
TZOFFSETTO:-0500
TZNAME:EST
DTSTART:20271107T060000
END:STANDARD
END:VTIMEZONE
BEGIN:VEVENT
DTSTART;TZID=America/New_York:20260429T183000
DTEND;TZID=America/New_York:20260429T203000
DTSTAMP:20260422T173451
CREATED:20260414T190407Z
LAST-MODIFIED:20260414T190407Z
UID:10002043-1777487400-1777494600@gatherdc.org
SUMMARY:Sip\, Nosh\, and Serve with Repair the World
DESCRIPTION:Join us for a rooftop evening in DC\, bringing together leaders and friends of the Jewish service movement.  \nSip\, nosh\, and roll up your sleeves as we pack hygiene kits for SOME (So Others Might Eat) all while enjoying great company. Address sent upon RSVP! \nRSVP TO: lisa.bodziner@werepair.org \n \nAccommodations: ADA Accessible Venue \n \nOrganization: Repair the World \n \nLivestream or Virtual: No\, it’s not
URL:https://gatherdc.org/event/sip-nosh-and-serve-with-repair-the-world/
LOCATION:Logan Circle – To Be Provided Upon RSVP\, United States
CATEGORIES:Social
ORGANIZER;CN="Lisa Bodziner":MAILTO:lisa.bodziner@werepair.org
END:VEVENT
END:VCALENDAR