BEGIN:VCALENDAR
VERSION:2.0
PRODID:-//GatherDC - ECPv6.15.20//NONSGML v1.0//EN
CALSCALE:GREGORIAN
METHOD:PUBLISH
X-ORIGINAL-URL:https://gatherdc.org
X-WR-CALDESC:Events for GatherDC
REFRESH-INTERVAL;VALUE=DURATION:PT1H
X-Robots-Tag:noindex
X-PUBLISHED-TTL:PT1H
BEGIN:VTIMEZONE
TZID:America/New_York
BEGIN:DAYLIGHT
TZOFFSETFROM:-0500
TZOFFSETTO:-0400
TZNAME:EDT
DTSTART:20250309T070000
END:DAYLIGHT
BEGIN:STANDARD
TZOFFSETFROM:-0400
TZOFFSETTO:-0500
TZNAME:EST
DTSTART:20251102T060000
END:STANDARD
BEGIN:DAYLIGHT
TZOFFSETFROM:-0500
TZOFFSETTO:-0400
TZNAME:EDT
DTSTART:20260308T070000
END:DAYLIGHT
BEGIN:STANDARD
TZOFFSETFROM:-0400
TZOFFSETTO:-0500
TZNAME:EST
DTSTART:20261101T060000
END:STANDARD
BEGIN:DAYLIGHT
TZOFFSETFROM:-0500
TZOFFSETTO:-0400
TZNAME:EDT
DTSTART:20270314T070000
END:DAYLIGHT
BEGIN:STANDARD
TZOFFSETFROM:-0400
TZOFFSETTO:-0500
TZNAME:EST
DTSTART:20271107T060000
END:STANDARD
END:VTIMEZONE
BEGIN:VEVENT
DTSTART;TZID=America/New_York:20260201T160000
DTEND;TZID=America/New_York:20260201T180000
DTSTAMP:20260424T055805
CREATED:20260126T155534Z
LAST-MODIFIED:20260126T155534Z
UID:10001748-1769961600-1769968800@gatherdc.org
SUMMARY:Tu Bishvat and Planting Justice with New Israel Fund
DESCRIPTION:This Tu Bishvat\, join New Israel Fund NewGen for an evening of learning\, reflection\, and action as we explore the meaning of land\, trees\, and justice in Israel and the West Bank. \nWe will learn about Rabbis for Human Rights Planting Justice initiative for which this event also serves as a fundraiser.\nMinimum Suggested amt: $18 \n \n \nOrganization: New Israel Fund \n \nLivestream or Virtual: No\, it’s not
URL:https://gatherdc.org/event/tu-bishvat-and-planting-justice-with-new-israel-fund/
LOCATION:GatherDC Townhouse\, United States
CATEGORIES:Learning
ORGANIZER;CN="Leora Cohen-Rosenberg":MAILTO:leora@nif.org
END:VEVENT
END:VCALENDAR