BEGIN:VCALENDAR
VERSION:2.0
PRODID:-//GatherDC - ECPv6.15.20//NONSGML v1.0//EN
CALSCALE:GREGORIAN
METHOD:PUBLISH
X-ORIGINAL-URL:https://gatherdc.org
X-WR-CALDESC:Events for GatherDC
REFRESH-INTERVAL;VALUE=DURATION:PT1H
X-Robots-Tag:noindex
X-PUBLISHED-TTL:PT1H
BEGIN:VTIMEZONE
TZID:America/New_York
BEGIN:DAYLIGHT
TZOFFSETFROM:-0500
TZOFFSETTO:-0400
TZNAME:EDT
DTSTART:20240310T070000
END:DAYLIGHT
BEGIN:STANDARD
TZOFFSETFROM:-0400
TZOFFSETTO:-0500
TZNAME:EST
DTSTART:20241103T060000
END:STANDARD
BEGIN:DAYLIGHT
TZOFFSETFROM:-0500
TZOFFSETTO:-0400
TZNAME:EDT
DTSTART:20250309T070000
END:DAYLIGHT
BEGIN:STANDARD
TZOFFSETFROM:-0400
TZOFFSETTO:-0500
TZNAME:EST
DTSTART:20251102T060000
END:STANDARD
BEGIN:DAYLIGHT
TZOFFSETFROM:-0500
TZOFFSETTO:-0400
TZNAME:EDT
DTSTART:20260308T070000
END:DAYLIGHT
BEGIN:STANDARD
TZOFFSETFROM:-0400
TZOFFSETTO:-0500
TZNAME:EST
DTSTART:20261101T060000
END:STANDARD
END:VTIMEZONE
BEGIN:VEVENT
DTSTART;TZID=America/New_York:20250308T170000
DTEND;TZID=America/New_York:20250308T203000
DTSTAMP:20260422T053556
CREATED:20251222T160239Z
LAST-MODIFIED:20260108T134234Z
UID:10001098-1741453200-1741465800@gatherdc.org
SUMMARY:Sapphic Sabbath
DESCRIPTION:Queer joy meets Jewish pride. We’re a group of friends hoping to build stronger connections among the local Jewish lesbian\, bi\, pan\, queer\, trans\, and nonbinary community. Shabbat is a time for rest and resilience\, and March 8th is International Women’s Day. Let’s come together for delicious food\, conversation\, and Havdalah. The ticket price helps cover some amazing things to eat/drink and a lovely space for gathering. \n \n \nOrganization: J Leaders
URL:https://gatherdc.org/event/sapphic-sabbath/
LOCATION:Restaurant be announced closer to the event\, Oakland\, TBA\, TBA\, United States
CATEGORIES:Social
ORGANIZER;CN="Laura Schiff":MAILTO:lauraellenschiff@gmail.com
END:VEVENT
BEGIN:VEVENT
DTSTART;TZID=America/New_York:20250209T130000
DTEND;TZID=America/New_York:20250209T150000
DTSTAMP:20260422T053556
CREATED:20251222T151456Z
LAST-MODIFIED:20260108T134228Z
UID:10001068-1739106000-1739113200@gatherdc.org
SUMMARY:Move and Write with the Trees: A Tu Bishvat Workshop
DESCRIPTION:Celebrate the New Year of Trees through this unique movement and writing workshop; exploring and connecting to the trees all around us. MovingWriting is a creativity practice where we move/dance to connect with our deep and creative selves and then see where our pens take us on the page\, with no agenda and no judgment. \n \n \nOrganization: Osher Marin JCC
URL:https://gatherdc.org/event/move-and-write-with-the-trees-a-tu-bishvat-workshop/
LOCATION:Osher Marin JCC\, 200 North San Pedro Road\, San Rafael\, CA\, 94903\, United States
CATEGORIES:Learning
ORGANIZER;CN="Laura Schiff":MAILTO:lauraellenschiff@gmail.com
END:VEVENT
END:VCALENDAR