BEGIN:VCALENDAR
VERSION:2.0
PRODID:-//GatherDC - ECPv6.15.20//NONSGML v1.0//EN
CALSCALE:GREGORIAN
METHOD:PUBLISH
X-ORIGINAL-URL:https://gatherdc.org
X-WR-CALDESC:Events for GatherDC
REFRESH-INTERVAL;VALUE=DURATION:PT1H
X-Robots-Tag:noindex
X-PUBLISHED-TTL:PT1H
BEGIN:VTIMEZONE
TZID:America/New_York
BEGIN:DAYLIGHT
TZOFFSETFROM:-0500
TZOFFSETTO:-0400
TZNAME:EDT
DTSTART:20250309T070000
END:DAYLIGHT
BEGIN:STANDARD
TZOFFSETFROM:-0400
TZOFFSETTO:-0500
TZNAME:EST
DTSTART:20251102T060000
END:STANDARD
BEGIN:DAYLIGHT
TZOFFSETFROM:-0500
TZOFFSETTO:-0400
TZNAME:EDT
DTSTART:20260308T070000
END:DAYLIGHT
BEGIN:STANDARD
TZOFFSETFROM:-0400
TZOFFSETTO:-0500
TZNAME:EST
DTSTART:20261101T060000
END:STANDARD
BEGIN:DAYLIGHT
TZOFFSETFROM:-0500
TZOFFSETTO:-0400
TZNAME:EDT
DTSTART:20270314T070000
END:DAYLIGHT
BEGIN:STANDARD
TZOFFSETFROM:-0400
TZOFFSETTO:-0500
TZNAME:EST
DTSTART:20271107T060000
END:STANDARD
END:VTIMEZONE
BEGIN:VEVENT
DTSTART;TZID=America/New_York:20260501T190000
DTEND;TZID=America/New_York:20260501T213000
DTSTAMP:20260420T073917
CREATED:20260406T205554Z
LAST-MODIFIED:20260406T205554Z
UID:10002009-1777662000-1777671000@gatherdc.org
SUMMARY:Friday Night Services + Dinner with Rabbi Jenna with Sixth & I
DESCRIPTION:6:00 pm – Happy Hour*\n7:00 pm – Service\n8:15 pm – Dinner \nThis service is: Inclusive and contemporary with familiar Shabbat elements \nIt’s led by: Rabbi Jenna with Sixth & I’s musicians \nYou can expect: Uplifting music and a thought-provoking sermon \nIt’s a good fit for: Shabbat newcomers or those looking for an unexpected way to wind down \n*Happy Hour is 21+\nCost Range: $0 – $45 \n \nAccommodations: ADA Accessible Venue;ASL Interpretation \n \nOrganization: Sixth & I \n \nLivestream or Virtual: Yes\, it is
URL:https://gatherdc.org/event/friday-night-services-dinner-with-rabbi-jenna-with-sixth-i-4/
LOCATION:Sixth & I\, 600 I Street\, NW\, Washington\, DC\, 20001\, United States
CATEGORIES:Prayer Services
ORGANIZER;CN="Erica Greenwald":MAILTO:egreenwald@sixthandi.org
END:VEVENT
BEGIN:VEVENT
DTSTART;TZID=America/New_York:20260515T190000
DTEND;TZID=America/New_York:20260515T203000
DTSTAMP:20260420T073917
CREATED:20260407T141744Z
LAST-MODIFIED:20260407T141744Z
UID:10002011-1778871600-1778877000@gatherdc.org
SUMMARY:Friday Night Services with Rabbi Aaron with Sixth & I
DESCRIPTION:6:00 pm – Happy Hour*\n7:00 pm – Service \nThis service is: Inclusive and contemporary with familiar Shabbat elements \nIt’s led by: Rabbi Aaron with Sixth & I’s musicians \nYou can expect: Uplifting music and a thought-provoking sermon \nIt’s a good fit for: Shabbat newcomers or those looking for an unexpected way to wind down \n*Happy Hour is 21+ \n \nAccommodations: ADA Accessible Venue;ASL Interpretation \n \nOrganization: Sixth & I \n \nLivestream or Virtual: Yes\, it is
URL:https://gatherdc.org/event/friday-night-services-with-rabbi-aaron-with-sixth-i-5/
LOCATION:Sixth & I\, 600 I Street\, NW\, Washington\, DC\, 20001\, United States
CATEGORIES:Prayer Services
ORGANIZER;CN="Erica Greenwald":MAILTO:egreenwald@sixthandi.org
END:VEVENT
BEGIN:VEVENT
DTSTART;TZID=America/New_York:20260521T193000
DTEND;TZID=America/New_York:20260521T223000
DTSTAMP:20260420T073917
CREATED:20260407T141911Z
LAST-MODIFIED:20260407T141911Z
UID:10002012-1779391800-1779402600@gatherdc.org
SUMMARY:Sinai Slam: An Alternative Shavuot Experience with Sixth & I
DESCRIPTION:During our take on the holiday of Shavuot\, hear candid\, autobiographical stories from Sixth & I’ers exploring themes of anticipation\, revelation\, and conversion\, eat your fill of ice cream and cheesecake\, and dive deep into Jewish texts during some late-night learning. \n7:30 pm – Happy Hour\n8:00 pm – Sinai Slam Storytelling Event\n9:30 pm – Dessert and Text Study with Rabbi Aaron \n \nAccommodations: ADA Accessible Venue \n \nOrganization: Sixth & I \n \nLivestream or Virtual: No\, it’s not
URL:https://gatherdc.org/event/sinai-slam-an-alternative-shavuot-experience-with-sixth-i/
LOCATION:Sixth & I\, 600 I Street\, NW\, Washington\, DC\, 20001\, United States
CATEGORIES:Other
ORGANIZER;CN="Erica Greenwald":MAILTO:egreenwald@sixthandi.org
END:VEVENT
BEGIN:VEVENT
DTSTART;TZID=America/New_York:20260529T190000
DTEND;TZID=America/New_York:20260529T201500
DTSTAMP:20260420T073917
CREATED:20260407T141652Z
LAST-MODIFIED:20260407T141652Z
UID:10002010-1780081200-1780085700@gatherdc.org
SUMMARY:Pause and Play: A Musical Friday Night with Sixth & I
DESCRIPTION:This experience is: Laid-back\, intimate\, heavy on music\, and lighter on prayer \nIt’s led by: Musician Aaron Shneyer \nYou can expect: Stirring music\, a collaborative feel\, and intentions that strike a chord \nIt’s a good fit for: Those unafraid to sing like no one’s listening \n \nAccommodations: ADA Accessible Venue \n \nOrganization: Sixth & I \n \nLivestream or Virtual: No\, it’s not
URL:https://gatherdc.org/event/pause-and-play-a-musical-friday-night-with-sixth-i-7/
LOCATION:Sixth & I\, 600 I Street\, NW\, Washington\, DC\, 20001\, United States
CATEGORIES:Prayer Services
ORGANIZER;CN="Erica Greenwald":MAILTO:egreenwald@sixthandi.org
END:VEVENT
END:VCALENDAR