BEGIN:VCALENDAR
VERSION:2.0
PRODID:-//GatherDC - ECPv6.15.20//NONSGML v1.0//EN
CALSCALE:GREGORIAN
METHOD:PUBLISH
X-WR-CALNAME:GatherDC
X-ORIGINAL-URL:https://gatherdc.org
X-WR-CALDESC:Events for GatherDC
REFRESH-INTERVAL;VALUE=DURATION:PT1H
X-Robots-Tag:noindex
X-PUBLISHED-TTL:PT1H
BEGIN:VTIMEZONE
TZID:America/New_York
BEGIN:DAYLIGHT
TZOFFSETFROM:-0500
TZOFFSETTO:-0400
TZNAME:EDT
DTSTART:20240310T070000
END:DAYLIGHT
BEGIN:STANDARD
TZOFFSETFROM:-0400
TZOFFSETTO:-0500
TZNAME:EST
DTSTART:20241103T060000
END:STANDARD
BEGIN:DAYLIGHT
TZOFFSETFROM:-0500
TZOFFSETTO:-0400
TZNAME:EDT
DTSTART:20250309T070000
END:DAYLIGHT
BEGIN:STANDARD
TZOFFSETFROM:-0400
TZOFFSETTO:-0500
TZNAME:EST
DTSTART:20251102T060000
END:STANDARD
BEGIN:DAYLIGHT
TZOFFSETFROM:-0500
TZOFFSETTO:-0400
TZNAME:EDT
DTSTART:20260308T070000
END:DAYLIGHT
BEGIN:STANDARD
TZOFFSETFROM:-0400
TZOFFSETTO:-0500
TZNAME:EST
DTSTART:20261101T060000
END:STANDARD
BEGIN:DAYLIGHT
TZOFFSETFROM:-0500
TZOFFSETTO:-0400
TZNAME:EDT
DTSTART:20270314T070000
END:DAYLIGHT
BEGIN:STANDARD
TZOFFSETFROM:-0400
TZOFFSETTO:-0500
TZNAME:EST
DTSTART:20271107T060000
END:STANDARD
END:VTIMEZONE
BEGIN:VEVENT
DTSTART;TZID=America/New_York:20260110T120000
DTEND;TZID=America/New_York:20260110T133000
DTSTAMP:20260425T063634
CREATED:20260107T172749Z
LAST-MODIFIED:20260108T134356Z
UID:10001551-1768046400-1768051800@gatherdc.org
SUMMARY:YP Kiddush with Adas Israel Congregation
DESCRIPTION:Join your fellow 22- to 35-ish-year-olds after services at a YP-dedicated table during kiddush. We’ll have some nice conversation with good company…and maybe a game or two as well! No RSVP needed. \n \n \nOrganization: Adas Israel Congregation \n \nLivestream or Virtual: No\, it’s not
URL:https://gatherdc.org/event/yp-kiddush-with-adas-israel-congregation-8/
LOCATION:Adas Israel\, 2850 Quebec St NW\, Washington\, DC\, 20008\, United States
CATEGORIES:Social
ORGANIZER;CN="Ely Merenstein":MAILTO:elysamuel16@gmail.com
END:VEVENT
BEGIN:VEVENT
DTSTART;TZID=America/New_York:20251220T120000
DTEND;TZID=America/New_York:20251220T133000
DTSTAMP:20260425T063634
CREATED:20251222T160556Z
LAST-MODIFIED:20260108T134336Z
UID:10001447-1766232000-1766237400@gatherdc.org
SUMMARY:YP Kiddush—Hanukkah Edition! with Adas Israel Congregation
DESCRIPTION:Join your fellow 22- to 35-ish-year-olds after services at a YP-dedicated table during kiddush. We’ll have some nice conversation with good company…and surely some dreidels and gelt will be making an appearance this time! No RSVP needed. \n \n \nOrganization: Adas Israel Congregation \n \nLivestream or Virtual: No\, it’s not
URL:https://gatherdc.org/event/yp-kiddush-hanukkah-edition-with-adas-israel-congregation/
LOCATION:Adas Israel Congregation\, 2850 Quebec St NW\, Washington\, DC\, 20008\, United States
CATEGORIES:Social
ORGANIZER;CN="Ely Merenstein":MAILTO:elysamuel16@gmail.com
END:VEVENT
BEGIN:VEVENT
DTSTART;TZID=America/New_York:20251025T120000
DTEND;TZID=America/New_York:20251025T133000
DTSTAMP:20260425T063634
CREATED:20251222T160416Z
LAST-MODIFIED:20260108T134303Z
UID:10001271-1761393600-1761399000@gatherdc.org
SUMMARY:YP Kiddush with Adas Israel Congregation
DESCRIPTION:Join your fellow 22- to 35-ish-year-olds after services at a YP-dedicated table during kiddush. We’ll have some nice conversation with good company…and maybe a game or two as well! \n \n \nOrganization: Adas Israel Congregation \n \nLivestream or Virtual: No\, it’s not
URL:https://gatherdc.org/event/yp-kiddush-with-adas-israel-congregation-7/
LOCATION:Adas Israel\, 2850 Quebec St NW\, Washington\, DC\, 20008\, United States
CATEGORIES:Social
ORGANIZER;CN="Ely Merenstein":MAILTO:elysamuel16@gmail.com
END:VEVENT
END:VCALENDAR