BEGIN:VCALENDAR
VERSION:2.0
PRODID:-//GatherDC - ECPv6.15.20//NONSGML v1.0//EN
CALSCALE:GREGORIAN
METHOD:PUBLISH
X-ORIGINAL-URL:https://gatherdc.org
X-WR-CALDESC:Events for GatherDC
REFRESH-INTERVAL;VALUE=DURATION:PT1H
X-Robots-Tag:noindex
X-PUBLISHED-TTL:PT1H
BEGIN:VTIMEZONE
TZID:America/New_York
BEGIN:DAYLIGHT
TZOFFSETFROM:-0500
TZOFFSETTO:-0400
TZNAME:EDT
DTSTART:20240310T070000
END:DAYLIGHT
BEGIN:STANDARD
TZOFFSETFROM:-0400
TZOFFSETTO:-0500
TZNAME:EST
DTSTART:20241103T060000
END:STANDARD
BEGIN:DAYLIGHT
TZOFFSETFROM:-0500
TZOFFSETTO:-0400
TZNAME:EDT
DTSTART:20250309T070000
END:DAYLIGHT
BEGIN:STANDARD
TZOFFSETFROM:-0400
TZOFFSETTO:-0500
TZNAME:EST
DTSTART:20251102T060000
END:STANDARD
BEGIN:DAYLIGHT
TZOFFSETFROM:-0500
TZOFFSETTO:-0400
TZNAME:EDT
DTSTART:20260308T070000
END:DAYLIGHT
BEGIN:STANDARD
TZOFFSETFROM:-0400
TZOFFSETTO:-0500
TZNAME:EST
DTSTART:20261101T060000
END:STANDARD
END:VTIMEZONE
BEGIN:VEVENT
DTSTART;TZID=America/New_York:20251019T120000
DTEND;TZID=America/New_York:20251019T133000
DTSTAMP:20260419T101954
CREATED:20251222T160404Z
LAST-MODIFIED:20260108T134300Z
UID:10001250-1760875200-1760880600@gatherdc.org
SUMMARY:Voter Information Session with UUCA and Kol Ami
DESCRIPTION:Join us for a non-partisan voter information session as our two congregations come together to educate and empower members before the November elections. Hear from local organizations including We Of Action (WOFA)\, New Virginia Majority (NVM)\, Network NOVA\, Arlington Interfaith Network (AIN)\, Congregation Action Network (CAN)\, and more! \nLearn about voter registration\, candidates\, local referendums\, and ways you can help get out the vote. This is a great opportunity to be informed\, get involved\, and engage with our broader community. \n \n \nOrganization: Kol Ami: Northern Virginia Reconstructionist Community \n \nLivestream or Virtual: No\, it’s not
URL:https://gatherdc.org/event/voter-information-session-with-uuca-and-kol-ami/
LOCATION:UUCA – Unitarian Universalist Church of Arlington\, VA\, 4444 Arlington Blvd.\, Arlington\, VA\, 22204\, United States
CATEGORIES:Other
ORGANIZER;CN="Felicita Wight":MAILTO:coordinator@kolamivirginia.org
END:VEVENT
BEGIN:VEVENT
DTSTART;TZID=America/New_York:20251021T183000
DTEND;TZID=America/New_York:20251021T200000
DTSTAMP:20260419T101954
CREATED:20251222T160407Z
LAST-MODIFIED:20260108T134301Z
UID:10001255-1761071400-1761076800@gatherdc.org
SUMMARY:2026 Election Cycle Launch with Jews United for Justice
DESCRIPTION:The federal takeover of DC has shown us one thing very clearly: DC residents need local leaders who will fight for all of us\, and who are accountable to the community they represent. That’s why the JUFJ Campaign Fund is kicking off our work for the 2026 election cycle now\, in 2025\, and this is your chance to be part of it from the very beginning. Join the campaign launch and learn how you can help shape our candidate endorsement process\, host house parties and other events for our endorsed candidates\, start canvassing in your neighborhood\, and much more. \n \n \nOrganization: Jews United for Justice Campaign Fund \n \nLivestream or Virtual: Yes\, it is
URL:https://gatherdc.org/event/2026-election-cycle-launch-with-jews-united-for-justice/
LOCATION:JUFJ Campaign Fund Office\, 2027 Massachusetts Ave NW\, Washington\, DC\, 20036\, United States
CATEGORIES:Giving Back
ORGANIZER;CN="Jenna Israel":MAILTO:jenna.israel@jufj.org
END:VEVENT
END:VCALENDAR