BEGIN:VCALENDAR
VERSION:2.0
PRODID:-//GatherDC - ECPv6.15.20//NONSGML v1.0//EN
CALSCALE:GREGORIAN
METHOD:PUBLISH
X-ORIGINAL-URL:https://gatherdc.org
X-WR-CALDESC:Events for GatherDC
REFRESH-INTERVAL;VALUE=DURATION:PT1H
X-Robots-Tag:noindex
X-PUBLISHED-TTL:PT1H
BEGIN:VTIMEZONE
TZID:America/New_York
BEGIN:DAYLIGHT
TZOFFSETFROM:-0500
TZOFFSETTO:-0400
TZNAME:EDT
DTSTART:20240310T070000
END:DAYLIGHT
BEGIN:STANDARD
TZOFFSETFROM:-0400
TZOFFSETTO:-0500
TZNAME:EST
DTSTART:20241103T060000
END:STANDARD
BEGIN:DAYLIGHT
TZOFFSETFROM:-0500
TZOFFSETTO:-0400
TZNAME:EDT
DTSTART:20250309T070000
END:DAYLIGHT
BEGIN:STANDARD
TZOFFSETFROM:-0400
TZOFFSETTO:-0500
TZNAME:EST
DTSTART:20251102T060000
END:STANDARD
BEGIN:DAYLIGHT
TZOFFSETFROM:-0500
TZOFFSETTO:-0400
TZNAME:EDT
DTSTART:20260308T070000
END:DAYLIGHT
BEGIN:STANDARD
TZOFFSETFROM:-0400
TZOFFSETTO:-0500
TZNAME:EST
DTSTART:20261101T060000
END:STANDARD
END:VTIMEZONE
BEGIN:VEVENT
DTSTART;TZID=America/New_York:20250906T103000
DTEND;TZID=America/New_York:20250906T113000
DTSTAMP:20260419T115534
CREATED:20251013T230428Z
LAST-MODIFIED:20260108T133905Z
UID:10000282-1757154600-1757158200@gatherdc.org
SUMMARY:We Are All DC Shabbat Service with Jews United for Justice
DESCRIPTION:JUFJ and Sixth & I will hold a Shabbat Service to sing\, pray\, and hold each other in community immediately before the We Are All DC march begins. Following the service\, we will gather and march together as a Jewish contingent in the march and rally.  \nWe encourage anyone coming to the service and march to bring a tallit (prayer shawl) as a symbol of our Jewish spiritual practice. If you have them\, also please wear your JUFJ tshirt and bring any relevant JUFJ signs.
URL:https://gatherdc.org/event/we-are-all-dc-shabbat-service-with-jews-united-for-justice/
LOCATION:Congregation Olam Tikvah\, 3800 Glenbrook Road\, Farifax\, Virginia\, 22031\, United States
CATEGORIES:Prayer Services
END:VEVENT
BEGIN:VEVENT
DTSTART;TZID=America/New_York:20250918T180000
DTEND;TZID=America/New_York:20250918T200000
DTSTAMP:20260419T115534
CREATED:20251013T221319Z
LAST-MODIFIED:20260108T133853Z
UID:10000238-1758218400-1758225600@gatherdc.org
SUMMARY:Community Active Shooter/Stop The Bleed Training with Kesher Israel Congregation
DESCRIPTION:Join Kesher Israel Congregation for a free informational community presentation on Active Shooter Training and Stop the Bleed Awareness on Thursday\, September 18\, 2025\, 6p-8p\, at Kesher Israel Congregation (first floor Social Hall). Registration is required.
URL:https://gatherdc.org/event/community-active-shooter-stop-the-bleed-training-with-kesher-israel-congregation/
LOCATION:Religious Action Center\, 2027 Massachusetts Ave NW\, Washington\, DC\, 20036\, United States
CATEGORIES:Other
END:VEVENT
BEGIN:VEVENT
DTSTART;TZID=America/New_York:20250928T100000
DTEND;TZID=America/New_York:20250928T130000
DTSTAMP:20260419T115534
CREATED:20251013T213422Z
LAST-MODIFIED:20260108T133840Z
UID:10000025-1759053600-1759064400@gatherdc.org
SUMMARY:Mobilize for the Future with Jews United for Justice
DESCRIPTION:Trump’s occupation of DC has been shocking and horrifying – for immigrants\, unhoused people\, youth of color who are brutally targeted by federal agents\, and for everyone in DC who cares about their neighbors and communities. It’s important and urgent to galvanize our community members behind the demands of the moment! That’s why on Sunday\, September 28th\, JUFJ is hosting this community meeting for Jews across the District to: \n– Come together and take stock of the moment we’re in\n– Ground in community\, art and song\n– Discuss our strategies to support our neighbors’ immediate needs\n– Learn about opportunities to take powerful action. \nAs we head into the Jewish New Year we are asked to heed the call to reflect\, repent and renew\, and ultimately turn that call into action. So\, whether you’ve been active with JUFJ for years or you heard about us for the first time last week\, this event is for you. \nLight Kosher vegetarian refreshments will be provided. All ages are welcome; there
URL:https://gatherdc.org/event/mobilize-for-the-future-with-jews-united-for-justice/
LOCATION:National Mall – Exact location will be shared with registered participants\, United States
CATEGORIES:Giving Back
END:VEVENT
BEGIN:VEVENT
DTSTART;TZID=America/New_York:20250928T140000
DTEND;TZID=America/New_York:20250928T153000
DTSTAMP:20260419T115534
CREATED:20251013T213421Z
LAST-MODIFIED:20260108T133840Z
UID:10000022-1759068000-1759073400@gatherdc.org
SUMMARY:Somatic Musical Tashlich Experience and Creek Cleanup with Mayim Chayim
DESCRIPTION:We will begin with a creek cleanup to thank the earth for sustaining us through this year. We will then engage in a somatic ritual combining Jewish tashlich\, yoga\, dance and Qigong elements to spiritually let go of what we do not wish to bring into the new year through guided movement. Next\, the incredibly talented Hasan Bhatti will lead us in a musical mincha. Hasan is a seasoned song leader whose original work is featured in the Let My People Sing songbook. This grounding ritual experience will vitalize your senses\, introduce you to great people and prepare you for Yom Kippur.
URL:https://gatherdc.org/event/somatic-musical-tashlich-experience-and-creek-cleanup-with-mayim-chayim/
LOCATION:Dacha\, 1600 7th street NW\, Washington\, District of Columbia\, 20001\, United States
CATEGORIES:Prayer Services
END:VEVENT
BEGIN:VEVENT
DTSTART;TZID=America/New_York:20250928T180000
DTEND;TZID=America/New_York:20250928T200000
DTSTAMP:20260419T115534
CREATED:20251013T213211Z
LAST-MODIFIED:20260108T133839Z
UID:10000201-1759082400-1759089600@gatherdc.org
SUMMARY:Get out the Vote! with Moishe House Adams Morgan
DESCRIPTION:There are important elections coming up this fall in Virginia and Pennsylvania. Join Moishe House Adams Morgan to write non-partisan letters encouraging people to participate in the democratic process (while eating yummy food and listening to fun music)!
URL:https://gatherdc.org/event/get-out-the-vote-with-moishe-house-adams-morgan/
LOCATION:The Kennedy Center Terrace Theatre\, 2700 F St NW\, Washington\, District of Colombia\, 20566\, United States
CATEGORIES:Giving Back
END:VEVENT
END:VCALENDAR