BEGIN:VCALENDAR
VERSION:2.0
PRODID:-//GatherDC - ECPv6.15.20//NONSGML v1.0//EN
CALSCALE:GREGORIAN
METHOD:PUBLISH
X-ORIGINAL-URL:https://gatherdc.org
X-WR-CALDESC:Events for GatherDC
REFRESH-INTERVAL;VALUE=DURATION:PT1H
X-Robots-Tag:noindex
X-PUBLISHED-TTL:PT1H
BEGIN:VTIMEZONE
TZID:America/New_York
BEGIN:DAYLIGHT
TZOFFSETFROM:-0500
TZOFFSETTO:-0400
TZNAME:EDT
DTSTART:20240310T070000
END:DAYLIGHT
BEGIN:STANDARD
TZOFFSETFROM:-0400
TZOFFSETTO:-0500
TZNAME:EST
DTSTART:20241103T060000
END:STANDARD
BEGIN:DAYLIGHT
TZOFFSETFROM:-0500
TZOFFSETTO:-0400
TZNAME:EDT
DTSTART:20250309T070000
END:DAYLIGHT
BEGIN:STANDARD
TZOFFSETFROM:-0400
TZOFFSETTO:-0500
TZNAME:EST
DTSTART:20251102T060000
END:STANDARD
BEGIN:DAYLIGHT
TZOFFSETFROM:-0500
TZOFFSETTO:-0400
TZNAME:EDT
DTSTART:20260308T070000
END:DAYLIGHT
BEGIN:STANDARD
TZOFFSETFROM:-0400
TZOFFSETTO:-0500
TZNAME:EST
DTSTART:20261101T060000
END:STANDARD
END:VTIMEZONE
BEGIN:VEVENT
DTSTART;TZID=America/New_York:20250812T160000
DTEND;TZID=America/New_York:20250812T200000
DTSTAMP:20260419T132229
CREATED:20251014T012949Z
LAST-MODIFIED:20260108T133922Z
UID:10000349-1755014400-1755028800@gatherdc.org
SUMMARY:Summer Blood Drive with the Edlavitch DCJCC
DESCRIPTION:Help replenish the blood supply in the DC metro area! \nIt’s safe\, easy\, confidential\, and extremely rewarding. The EDCJCC partners with Inova Blood Services to bring skilled technicians and top-of-the-line equipment for our quarterly blood drives. \nA few facts about donating blood: \n-One blood donation can save four lives\n-All donations stay in the Washington\, DC area\n-Every 17 seconds\, someone in the DC area needs a blood donation\n-One out of 10 people will need a donation before the age of 70\n-The body quickly replaces the amount of blood given during the donation \nFor more information\, please see the eligibility requirements for donating. Please plan on your blood donation to take about an hour from start to finish. \nDo you need any additional accommodations for this event? If so\, please contact msmith@edcjcc.org
URL:https://gatherdc.org/event/summer-blood-drive-with-the-edlavitch-dcjcc/
CATEGORIES:Giving Back
END:VEVENT
BEGIN:VEVENT
DTSTART;TZID=America/New_York:20250817T190000
DTEND;TZID=America/New_York:20250817T203000
DTSTAMP:20260419T132229
CREATED:20251013T235039Z
LAST-MODIFIED:20260108T133919Z
UID:10000117-1755457200-1755462600@gatherdc.org
SUMMARY:Make Art and Noise for a Free DC! with Jews United for Justice
DESCRIPTION:Make art\, build community\, and fight for a free DC with JUFJ. Join us as we stand in solidarity with our partners at Free DC to make clear that we will protect our home. We’ll gather to join the two calls to action from Free DC to make our movement visible\, loud\, and united — we’ll make DC flag posters to put up in our windows\, yards\, or businesses\, and we’ll bang pots at 8pm alongside everyone else at Free DC. We will provide some art supplies but you are welcome to bring your own! This event is in the Capitol Hill neighborhood\, exact location will be sent to registrants ahead of the event.
URL:https://gatherdc.org/event/make-art-and-noise-for-a-free-dc-with-jews-united-for-justice-2/
LOCATION:Thomas Jefferson Building – LJ 119\n10 1st Street SE\nWashington\, DC 20540\, United States
CATEGORIES:Giving Back
END:VEVENT
BEGIN:VEVENT
DTSTART;TZID=America/New_York:20250820T235900
DTEND;TZID=America/New_York:20250820T235900
DTSTAMP:20260419T132229
CREATED:20251013T234437Z
LAST-MODIFIED:20260108T133915Z
UID:10000319-1755734340-1755734340@gatherdc.org
SUMMARY:Ambassadors Fellowship Application Deadline with the Den Collective
DESCRIPTION:A selective leadership experience for those called to cultivate meaningful connections at the Den among folks in their 20s-40s across our community. Fellows will receive training in relational community organizing\, spiritual listening\, and community network weaving – drawing on the wisdom of Den leaders and select outside professionals who bring expertise in building inclusive\, values-driven communities. This fellowship equips participants with exceptional tools–like active listening\, connecting others\, and moving from relationship-building to collaborative action–that are valuable in professional settings and beyond. Ambassadors join a trusted circle of Den leaders committed to fostering belonging\, care\, and purpose in every interaction. \nTo learn more and apply\, visit https://www.thedencollective.org/ambassadors-fellowship\nMinimum Suggested Donation Amt: 360
URL:https://gatherdc.org/event/ambassadors-fellowship-application-deadline-with-the-den-collective/
LOCATION:Location will vary based on sign-up.\, United States
CATEGORIES:Other
END:VEVENT
BEGIN:VEVENT
DTSTART;TZID=America/New_York:20250821T190000
DTEND;TZID=America/New_York:20250821T203000
DTSTAMP:20260419T132229
CREATED:20251013T234437Z
LAST-MODIFIED:20260108T133916Z
UID:10000320-1755802800-1755808200@gatherdc.org
SUMMARY:Make Art and Noise for a Free DC! with Jews United for Justice
DESCRIPTION:Make art\, build community\, and fight for a free DC with JUFJ. Join us as we stand in solidarity with our partners at Free DC to make clear that we will protect our home. We’ll gather to join the two calls to action from Free DC to make our movement visible\, loud\, and united — we’ll make DC flag posters to put up in our windows\, yards\, or businesses\, and we’ll bang pots at 8pm alongside everyone else at Free DC. We will provide some art supplies but you are welcome to bring your own! This event is in the Mt Pleasant neighborhood\, exact location will be sent to registrants ahead of the event.
URL:https://gatherdc.org/event/make-art-and-noise-for-a-free-dc-with-jews-united-for-justice/
LOCATION:Chabad Lubavitch of Alexandria-Arlington\n1307 North Highland Street\nArlington\, VA 22201\, United States
CATEGORIES:Giving Back
END:VEVENT
END:VCALENDAR