BEGIN:VCALENDAR
VERSION:2.0
PRODID:-//GatherDC - ECPv6.15.20//NONSGML v1.0//EN
CALSCALE:GREGORIAN
METHOD:PUBLISH
X-ORIGINAL-URL:https://gatherdc.org
X-WR-CALDESC:Events for GatherDC
REFRESH-INTERVAL;VALUE=DURATION:PT1H
X-Robots-Tag:noindex
X-PUBLISHED-TTL:PT1H
BEGIN:VTIMEZONE
TZID:America/New_York
BEGIN:DAYLIGHT
TZOFFSETFROM:-0500
TZOFFSETTO:-0400
TZNAME:EDT
DTSTART:20250309T070000
END:DAYLIGHT
BEGIN:STANDARD
TZOFFSETFROM:-0400
TZOFFSETTO:-0500
TZNAME:EST
DTSTART:20251102T060000
END:STANDARD
BEGIN:DAYLIGHT
TZOFFSETFROM:-0500
TZOFFSETTO:-0400
TZNAME:EDT
DTSTART:20260308T070000
END:DAYLIGHT
BEGIN:STANDARD
TZOFFSETFROM:-0400
TZOFFSETTO:-0500
TZNAME:EST
DTSTART:20261101T060000
END:STANDARD
BEGIN:DAYLIGHT
TZOFFSETFROM:-0500
TZOFFSETTO:-0400
TZNAME:EDT
DTSTART:20270314T070000
END:DAYLIGHT
BEGIN:STANDARD
TZOFFSETFROM:-0400
TZOFFSETTO:-0500
TZNAME:EST
DTSTART:20271107T060000
END:STANDARD
END:VTIMEZONE
BEGIN:VEVENT
DTSTART;TZID=America/New_York:20260102T183000
DTEND;TZID=America/New_York:20260102T213000
DTSTAMP:20260422T113957
CREATED:20251222T160610Z
LAST-MODIFIED:20260108T134340Z
UID:10001470-1767378600-1767389400@gatherdc.org
SUMMARY:Metro Minyan with 2239
DESCRIPTION:Metro Minyan is on January 2nd!\nDon’t forget to sign up for our first Metro Minyan of the year!\nJoin us at 6:30 PM for light learning\, hot appetizers\, and drinks\, followed by a beautiful Kabbalat Shabbat service enhanced by Becky’s inspiring music. After services\, enjoy a delicious dinner as we relax and reconnect with friends—both new andå longtime.\nIf this is your first time to Metro Minyan or WHC\, welcome!! Don’t hesitate to join in or reach out in advance so we can spot you.\nCan’t wait to see you there!\nPlease keep in mind this event is intended for people between the ages of 22 and 39.\nCost Range: 18 – 36 \n \n \nOrganization: Washington Hebrew Congregation \n \nLivestream or Virtual: No\, it’s not
URL:https://gatherdc.org/event/metro-minyan-with-2239-2/
LOCATION:Washington Hebrew Congregation\, 3935 Macomb St NW\, Washington\, DC\, 20016\, United States
CATEGORIES:Social
ORGANIZER;CN="Maital Kaminer":MAILTO:mkaminer@whctemple.org
END:VEVENT
BEGIN:VEVENT
DTSTART;TZID=America/New_York:20260106T190000
DTEND;TZID=America/New_York:20260106T203000
DTSTAMP:20260422T113957
CREATED:20251222T160609Z
LAST-MODIFIED:20260108T134339Z
UID:10001469-1767726000-1767731400@gatherdc.org
SUMMARY:Interfaith Couples Workshop Begins with the Interfaith Families Project
DESCRIPTION:Our interfaith couples workshop is a four-part series for partners seeking to learn about life as an interfaith couple\, celebrating both Jewish and Christian traditions. Participants might be dating\, engaged\, or married\, with or without children. \nThe workshop is led by IFFP’s clergy\, Rev. Samantha Gonzalez-Block\, Reverend and Christian Spiritual Leader\, Rabbi Debbie Reichmann\, Rabbi and Jewish Spiritual Advisor\, and Father Michael Kelly of St. Martin of Tours\, in Washington\, D.C. \nWe are also honored to be joined by author and long-time IFFP member Susan Katz Miller\, the author of Being Both: Embracing Two Religions in One Interfaith Family and The Interfaith Family Journal. Make sure to check out Susan Katz Miller’s blog\, On Being Both\, where you can find valuable stories about her journey in the world of interfaith families. \n \n \nOrganization: The Interfaith Families Project of Greater Washington\, D.C. \n \nLivestream or Virtual: Yes\, it is
URL:https://gatherdc.org/event/interfaith-couples-workshop-begins-with-the-interfaith-families-project/
LOCATION:Zoom\, United States
CATEGORIES:Learning
ORGANIZER;CN="Miranda Hovemeyer":MAILTO:miranda@iffp.org
END:VEVENT
BEGIN:VEVENT
DTSTART;TZID=America/New_York:20260120T184500
DTEND;TZID=America/New_York:20260120T200000
DTSTAMP:20260422T113957
CREATED:20251222T160615Z
LAST-MODIFIED:20260108T134341Z
UID:10001474-1768934700-1768939200@gatherdc.org
SUMMARY:DC New Moon Circle: Shvat with At the Well
DESCRIPTION:Jewish tradition holds the world’s best-kept wellness secrets—these ancient practices support our wholeness individually and in community. Please join in this collaborative experience as At The Well and the Wellness Center @ Adas partner to explore the wisdom of the lunar calendar through the sacred technology of Rosh Chodesh. The Hebrew Calendar invites each of us into cyclical time\, present-moment awareness\, embodiment\, and collective care. \nTuesday\, January 20 @6:45pm–SHVAT\nWith At The Well\nIn Shvat we find rejuvenation through our connection to the natural world – just like the trees we celebrate on Tu B’Shvat (full moon)\, we continue to grow and renew even through the harshness of winter. We will be awakening from our hibernation and planting seeds for the spring to come\, each setting intentions for freedom. \n \nAccommodations: ADA Accessible Venue \n \nOrganization: At The Well \n \nLivestream or Virtual: No\, it’s not
URL:https://gatherdc.org/event/dc-new-moon-circle-shvat-with-at-the-well/
LOCATION:Adas Israel Congregation\, 2850 Quebec St NW\, Washington\, DC\, 20008\, United States
CATEGORIES:Learning
ORGANIZER;CN="Sarah Waxman":MAILTO:hello@atthewellproject.com
END:VEVENT
BEGIN:VEVENT
DTSTART;TZID=America/New_York:20260124T090000
DTEND;TZID=America/New_York:20260124T103000
DTSTAMP:20260422T113957
CREATED:20251222T160618Z
LAST-MODIFIED:20260108T134341Z
UID:10001478-1769245200-1769250600@gatherdc.org
SUMMARY:Awakened Heart: A Contemplative Shabbat Morning Experience w/ the Den Collective
DESCRIPTION:Join Rabbi Aderet for Awakened Heart\, a holistic and soulful mindfulness experience that will take us on an individual journey from being present to what is in our hearts to connecting with the community around us. Together\, we will foster a space to deepen care for ourselves – mind\, body\, heart\, and soul. Grounding in Torah learning\, mindfulness meditation\, and sacred chanting\, we will move through our soulful and uplifting Shabbat contemplative service together. \nNo experience necessary. Everyone is welcome. You are invited to dress in comfortable clothing.  \nWe will gather in a location in Chevy Chase\, MD.  Following the Awakened Heart Shabbat Morning Experience\, participants are invited to stay for a larger communal Shabbat experience\, which includes sharing in a Shabbat Kiddush Lunch.  \nSpecific location and additional details will be shared with registrants after the registration deadline. \n \n \nOrganization: The Den Collective \n \nLivestream or Virtual: No\, it’s not
URL:https://gatherdc.org/event/awakened-heart-a-contemplative-shabbat-morning-experience-w-the-den-collective/
LOCATION:Specific location will be shared with registrants.\, United States
CATEGORIES:Learning
ORGANIZER;CN="Sophie Farwagi":MAILTO:sophie@thedencollective.org
END:VEVENT
BEGIN:VEVENT
DTSTART;TZID=America/New_York:20260131T193000
DTEND;TZID=America/New_York:20260131T210000
DTSTAMP:20260422T113957
CREATED:20260114T181944Z
LAST-MODIFIED:20260114T181944Z
UID:10001714-1769887800-1769893200@gatherdc.org
SUMMARY:RAZA - Shabbat Shirah Prayer Concert with Adas Israel Congregation
DESCRIPTION:RAZA is a musical listening project that explores the feminine voice in old Hasidic melodies. Meaning “secret” or “hidden” in Aramaic\, RAZA is an attempt to listen more deeply to sacred\, traditional melodies\, to ask a question of them\, and open up to hear them whisper something new into the world. RAZA explores both the notes and the wisdom surrounding these rich\, complex\, and uplifting melodies\, as passed down for centuries. \n \n \nOrganization: Adas Israel Congregation \n \nLivestream or Virtual: No\, it’s not
URL:https://gatherdc.org/event/raza-shabbat-shirah-prayer-concert-with-adas-israel-congregation/
LOCATION:Adas Israel Congregation\, 2850 Quebec St NW\, Washington\, DC\, 20008\, United States
CATEGORIES:Other
END:VEVENT
END:VCALENDAR