BEGIN:VCALENDAR
VERSION:2.0
PRODID:-//GatherDC - ECPv6.15.20//NONSGML v1.0//EN
CALSCALE:GREGORIAN
METHOD:PUBLISH
X-WR-CALNAME:GatherDC
X-ORIGINAL-URL:https://gatherdc.org
X-WR-CALDESC:Events for GatherDC
REFRESH-INTERVAL;VALUE=DURATION:PT1H
X-Robots-Tag:noindex
X-PUBLISHED-TTL:PT1H
BEGIN:VTIMEZONE
TZID:America/New_York
BEGIN:DAYLIGHT
TZOFFSETFROM:-0500
TZOFFSETTO:-0400
TZNAME:EDT
DTSTART:20250309T070000
END:DAYLIGHT
BEGIN:STANDARD
TZOFFSETFROM:-0400
TZOFFSETTO:-0500
TZNAME:EST
DTSTART:20251102T060000
END:STANDARD
BEGIN:DAYLIGHT
TZOFFSETFROM:-0500
TZOFFSETTO:-0400
TZNAME:EDT
DTSTART:20260308T070000
END:DAYLIGHT
BEGIN:STANDARD
TZOFFSETFROM:-0400
TZOFFSETTO:-0500
TZNAME:EST
DTSTART:20261101T060000
END:STANDARD
BEGIN:DAYLIGHT
TZOFFSETFROM:-0500
TZOFFSETTO:-0400
TZNAME:EDT
DTSTART:20270314T070000
END:DAYLIGHT
BEGIN:STANDARD
TZOFFSETFROM:-0400
TZOFFSETTO:-0500
TZNAME:EST
DTSTART:20271107T060000
END:STANDARD
END:VTIMEZONE
BEGIN:VEVENT
DTSTART;TZID=America/New_York:20260201T120000
DTEND;TZID=America/New_York:20260201T140000
DTSTAMP:20260419T160135
CREATED:20260123T201916Z
LAST-MODIFIED:20260123T201916Z
UID:10001744-1769947200-1769954400@gatherdc.org
SUMMARY:Chavruta Circles: JDAIM with Rodef 2100
DESCRIPTION:Join Rodef 2100 for a casual gathering to learn about Jewish Disability Awareness\, Acceptance and Inclusion Month. (JDAIM). Whether you’re part of the disability community or an ally\, we would love for you to join us in connecting and sharing stories about what it’s like being disabled in the Jewish community. \n \n \nOrganization: Rodef 2100 \n \nLivestream or Virtual: No\, it’s not
URL:https://gatherdc.org/event/chavruta-circles-jdaim-with-rodef-2100/
LOCATION:Misha’s\, 917 King St\, Alexandria\, VA\, 22314\, United States
CATEGORIES:Social
ORGANIZER;CN="Rodef 2100":MAILTO:rodef2100@templerodefshalom.org
END:VEVENT
BEGIN:VEVENT
DTSTART;TZID=America/New_York:20260211T133000
DTEND;TZID=America/New_York:20260211T153000
DTSTAMP:20260419T160135
CREATED:20260204T203358Z
LAST-MODIFIED:20260204T203358Z
UID:10001786-1770816600-1770823800@gatherdc.org
SUMMARY:Jews Against ICE Action with Dayenu and Partners
DESCRIPTION:Dayenu will rally with Jewish clergy and community members near ICE headquarters in Washington\, D.C. \nPlease fill out this form to indicate your interest in meeting up with Dayenu activists before the event\, and attending together. We will be in touch with specifics (additional timing\, pre-event meeting spot) as soon as possible. Currently the action is planned from 1:30-3:30. \nWe will bring our outrage and faith to voice opposition to ICE’s cruel and unfounded immigration enforcement system. Through prayer\, moral witness\, and public testimony\, participants will demonstrate that this system is a failure of both morality and policy – and that it does not have to be this way. \nCo-sponsors include dozens of organizations\, including T’ruah\, Bend the Arc\, and Jews United for Justice. \n \n \nOrganization: Dayenu: A Jewish Call to Climate Action \n \nLivestream or Virtual: No\, it’s not
URL:https://gatherdc.org/event/jews-against-ice-action-with-dayenu-and-partners/
CATEGORIES:Other
END:VEVENT
END:VCALENDAR