BEGIN:VCALENDAR
VERSION:2.0
PRODID:-//GatherDC - ECPv6.15.20//NONSGML v1.0//EN
CALSCALE:GREGORIAN
METHOD:PUBLISH
X-WR-CALNAME:GatherDC
X-ORIGINAL-URL:https://gatherdc.org
X-WR-CALDESC:Events for GatherDC
REFRESH-INTERVAL;VALUE=DURATION:PT1H
X-Robots-Tag:noindex
X-PUBLISHED-TTL:PT1H
BEGIN:VTIMEZONE
TZID:America/New_York
BEGIN:DAYLIGHT
TZOFFSETFROM:-0500
TZOFFSETTO:-0400
TZNAME:EDT
DTSTART:20240310T070000
END:DAYLIGHT
BEGIN:STANDARD
TZOFFSETFROM:-0400
TZOFFSETTO:-0500
TZNAME:EST
DTSTART:20241103T060000
END:STANDARD
BEGIN:DAYLIGHT
TZOFFSETFROM:-0500
TZOFFSETTO:-0400
TZNAME:EDT
DTSTART:20250309T070000
END:DAYLIGHT
BEGIN:STANDARD
TZOFFSETFROM:-0400
TZOFFSETTO:-0500
TZNAME:EST
DTSTART:20251102T060000
END:STANDARD
BEGIN:DAYLIGHT
TZOFFSETFROM:-0500
TZOFFSETTO:-0400
TZNAME:EDT
DTSTART:20260308T070000
END:DAYLIGHT
BEGIN:STANDARD
TZOFFSETFROM:-0400
TZOFFSETTO:-0500
TZNAME:EST
DTSTART:20261101T060000
END:STANDARD
END:VTIMEZONE
BEGIN:VEVENT
DTSTART;TZID=America/New_York:20251206T093000
DTEND;TZID=America/New_York:20251206T120000
DTSTAMP:20260419T192423
CREATED:20251222T160522Z
LAST-MODIFIED:20260108T134325Z
UID:10001386-1765013400-1765022400@gatherdc.org
SUMMARY:Saturday Morning Shabbat Services with Fabrangen Havurah
DESCRIPTION:Fabrangen is a community devoted to Torah\, community service\, and social justice activism.  \nWe warmly welcome everyone regardless of gender\, sexual orientation\, race\, ethnicity\, religious background or affiliation\, nationality\, disability\, or age to join us for Shabbat Services. \nFabrangen holds two types of Shabbat services: multi-access (hybrid) and Zoom only.\nServices begin at 9:30 a.m. preceded by online meditation at 9:00 a.m.\nCheck our calendar for the format for a particular Shabbat. \nThe in-person part of our multi-access services is held at the Washington Ethical Society\, 7750 16th Street\, N.W.\, Washington\, DC 20012 \nPlease email the Fabrangen Coordinator in advance to obtain the Zoom link. \n \nAccommodations: ADA Accessible Venue \n \nOrganization: Fabrangen Havurah \n \nLivestream or Virtual: Yes\, it is
URL:https://gatherdc.org/event/saturday-morning-shabbat-services-with-fabrangen-havurah-2/
LOCATION:Washington Ethical Society Building\, 7750 16th Street NW\, Washington\, DC\, 20012\, United States
CATEGORIES:Prayer Services
ORGANIZER;CN="Elena Rodriguez":MAILTO:coordinator@fabrangen.org
END:VEVENT
BEGIN:VEVENT
DTSTART;TZID=America/New_York:20251207T163000
DTEND;TZID=America/New_York:20251207T193000
DTSTAMP:20260419T192423
CREATED:20251222T160529Z
LAST-MODIFIED:20260108T134327Z
UID:10001401-1765125000-1765135800@gatherdc.org
SUMMARY:Spirit of Humanity: Love Matters Of The Heart with Mosaic Visions
DESCRIPTION:A night of art\, music\, and words exploring love in all its forms. Spirit of Humanity returns December 7 at Eaton DC.\nCome join us at Eaton DC for an unforgettable evening celebrating the power of love and the heart. \nSpirit of Humanity: Love — Matters of the Heart (2025) invites you to experience the universal language of love through art\, music\, and words that stir the soul. Dive deep into moments of reflection\, performance\, and creative exchange that inspire and uplift the human spirit. \nPresented by Mosaic Visions\, a nonprofit using art and the humanities to create inclusive spaces where diverse stories can be seen and heard. \nConnect with artists\, thinkers\, and community members who share a passion for creativity\, compassion\, and collective healing. Together\, we’ll explore how love moves through us—uniting\, transforming\, and reminding us of our shared humanity. \nDon’t miss this opportunity to be part of something truly special—where art becomes interpretation\, and love takes center stage. \nPlease visit us on www.mosaicvisions.org for more information. \nIf there is a financial barrier we want to ensure everyone has access to arts\, please email info@mosaicvisions.org.\nCost Range: 20 – 40 \n \nAccommodations: ADA Accessible Venue \n \nOrganization: Mosaic Visions \n \nLivestream or Virtual: No\, it’s not
URL:https://gatherdc.org/event/spirit-of-humanity-love-matters-of-the-heart-with-mosaic-visions/
LOCATION:Eaton DC\, 1203 K Street Northwest\, Washington\, D.C\, 20005\, United States
CATEGORIES:Social
END:VEVENT
BEGIN:VEVENT
DTSTART;TZID=America/New_York:20251209T190000
DTEND;TZID=America/New_York:20251209T210000
DTSTAMP:20260419T192423
CREATED:20251222T160536Z
LAST-MODIFIED:20260108T134330Z
UID:10001413-1765306800-1765314000@gatherdc.org
SUMMARY:Capital J Mainstage: David Frum and Hanna Rosin with the EDCJCC
DESCRIPTION:David Frum\, staff writer at The Atlantic and host of The David Frum Show podcast\, and Hanna Rosin\, senior editor at The Atlantic and host of Radio Atlantic\, will join us to discuss what it means to navigate politics as a Jew during this turbulent time.\nCost Range: 31 – 152 \n \nAccommodations: ADA Accessible Venue;ASL Interpretation \n \nOrganization: Edlavitch DCJCC \n \nLivestream or Virtual: No\, it’s not
URL:https://gatherdc.org/event/capital-j-mainstage-david-frum-and-hanna-rosin-with-the-edcjcc/
LOCATION:Edlavitch DC JCC\, Goldman Theater\, Theater J\, 1529 16th Street NW\, Washington\, DC\, 20036\, United States
CATEGORIES:Learning
ORGANIZER;CN="Adam Cooper":MAILTO:acooper@edcjcc.org
END:VEVENT
BEGIN:VEVENT
DTSTART;TZID=America/New_York:20251211T183000
DTEND;TZID=America/New_York:20251211T200000
DTSTAMP:20260419T192423
CREATED:20251013T203142Z
LAST-MODIFIED:20260108T133818Z
UID:10000073-1765477800-1765483200@gatherdc.org
SUMMARY:Antisemitism Past and Present: A Conversation with Capital Jewish Museum
DESCRIPTION:To mark the release of historian Pamela Nadell’s Antisemitism: An American Tradition\, the Capital Jewish Museum brings together Nadell and historian James Loeffler for a conversation on the history of antisemitism in America–past and present. The discussion will be moderated by Stacy Burdett\, a policy strategist focused on combating antisemitism. Followed by a Q&A and book signing.\nCost Range: 0 – 18
URL:https://gatherdc.org/event/antisemitism-past-and-present-a-conversation-with-capital-jewish-museum/
LOCATION:Reflection location TBA.\, United States
CATEGORIES:Learning
ORGANIZER;CN="Jodi Ochstein":MAILTO:jodiochstein@gmail.com
END:VEVENT
BEGIN:VEVENT
DTSTART;TZID=America/New_York:20251213T093000
DTEND;TZID=America/New_York:20251213T120000
DTSTAMP:20260419T192423
CREATED:20251222T160534Z
LAST-MODIFIED:20260108T134329Z
UID:10001410-1765618200-1765627200@gatherdc.org
SUMMARY:Saturday Morning Shabbat Services with Fabrangen Havurah
DESCRIPTION:Fabrangen is a community devoted to Torah\, community service\, and social justice activism.  \nWe warmly welcome everyone regardless of gender\, sexual orientation\, race\, ethnicity\, religious background or affiliation\, nationality\, disability\, or age to join us for Shabbat Services. \nFabrangen holds two types of Shabbat services: multi-access (hybrid) and Zoom only.\nServices begin at 9:30 a.m. preceded by online meditation at 9:00 a.m.\nCheck our calendar for the format for a particular Shabbat. \nThe in-person part of our multi-access services is held at the Washington Ethical Society\, 7750 16th Street\, N.W.\, Washington\, DC 20012 \nPlease email the Fabrangen Coordinator in advance to obtain the Zoom link. \n \nAccommodations: ADA Accessible Venue \n \nOrganization: Fabrangen Havurah \n \nLivestream or Virtual: Yes\, it is
URL:https://gatherdc.org/event/saturday-morning-shabbat-services-with-fabrangen-havurah-3/
LOCATION:Washington Ethical Society Building\, 7750 16th Street NW\, Washington\, DC\, 20012\, United States
CATEGORIES:Prayer Services
ORGANIZER;CN="Elena Rodriguez":MAILTO:coordinator@fabrangen.org
END:VEVENT
BEGIN:VEVENT
DTSTART;TZID=America/New_York:20251216T123000
DTEND;TZID=America/New_York:20251216T133000
DTSTAMP:20260419T192423
CREATED:20251222T160544Z
LAST-MODIFIED:20260108T134332Z
UID:10001425-1765888200-1765891800@gatherdc.org
SUMMARY:Fighting Anti-Israel Terror in the American Courts with the JCRC
DESCRIPTION:ADL and Crowell & Moring are taking the terrorists and their sponsors responsible for the October 7th massacre to court in the United States. \nLearn more about these lawsuits aimed at bringing justice to victims of terrorist attacks\, and holding the perpetrators and sponsors accountable. \nHear from Aryeh Portnoy and Emily Alban\, lead attorneys in numerous cases on behalf of victims of state-sponsored terrorism\, including the cases filed against Hamas and the other Palestinian terrorist groups who committed the October 7 atrocities\, and the governments of Iran\, Syria and North Korea who provided the resources and material support necessary to execute the attack. \nIn conversation with JCRC Vice President Galia Messika Greenberg. \n \nAccommodations: Post-event Recording \n \nOrganization: Jewish Community Relations Council of Greater Washington \n \nLivestream or Virtual: Yes\, it is
URL:https://gatherdc.org/event/fighting-anti-israel-terror-in-the-american-courts-with-the-jcrc/
LOCATION:Zoom\, United States
CATEGORIES:Learning
ORGANIZER;CN="Alan Brody":MAILTO:abrody@jcouncil.org
END:VEVENT
BEGIN:VEVENT
DTSTART;TZID=America/New_York:20251216T190000
DTEND;TZID=America/New_York:20251216T210000
DTSTAMP:20260419T192423
CREATED:20251013T203142Z
LAST-MODIFIED:20260108T133818Z
UID:10000072-1765911600-1765918800@gatherdc.org
SUMMARY:Spotlight: Stories by LGBTQ+ Jews in the Federal City with Capital Jewish Museum
DESCRIPTION:Don’t miss the final LGBTJews in the Federal City program featuring Story District! Hear local community members perform their stories on stage for you. Inspired by themes of Hannukah\, including perseverance\, bravery\, and light\, join us for an inspirational and imaginative evening of live storytelling featuring the voices and experiences of LGBTQ+ Jewish Washingtonians. Includes access to LGBTJews in the Federal City. Come early to see the exhibit!\nCost Range: 25 – 54
URL:https://gatherdc.org/event/spotlight-stories-by-lgbtq-jews-in-the-federal-city-with-capital-jewish-museum/
LOCATION:Reflection location TBA.\, United States
CATEGORIES:Social
ORGANIZER;CN="Jodi Ochstein":MAILTO:jodiochstein@gmail.com
END:VEVENT
BEGIN:VEVENT
DTSTART;TZID=America/New_York:20251217T190000
DTEND;TZID=America/New_York:20251217T203000
DTSTAMP:20260419T192423
CREATED:20251222T160548Z
LAST-MODIFIED:20260108T134334Z
UID:10001435-1765998000-1766003400@gatherdc.org
SUMMARY:Guilt Free Gelt with Moishe House Adams Morgan
DESCRIPTION:Celebrate Hanukkah and learn about the chocolate industry with Moishe House Admo. We’ll be discussing (and eating) fair-trade chocolate gelt for the holiday. RSVP here: https://partiful.com/e/mnyIkxJLeJjmqk3GvEdJ \n \n \nOrganization: Moishe House Adams Morgan \n \nLivestream or Virtual: Yes\, it is
URL:https://gatherdc.org/event/guilt-free-gelt-with-moishe-house-adams-morgan/
LOCATION:Moishe House Adams Morgan\, United States
CATEGORIES:Learning
ORGANIZER;CN="Ben Fleisher":MAILTO:moishehouseadmo@gmail.com
END:VEVENT
BEGIN:VEVENT
DTSTART;TZID=America/New_York:20251218T180000
DTEND;TZID=America/New_York:20251218T210000
DTSTAMP:20260419T192423
CREATED:20251222T160552Z
LAST-MODIFIED:20260108T134334Z
UID:10001438-1766080800-1766091600@gatherdc.org
SUMMARY:Shehecheyanu: a Jews for Janeese Chanukah Launch Party with JUFJ Campaign Fund
DESCRIPTION:DC deserves a Mayor who will fight for our communities and our Jewish values\, and Janeese Lewis George will be that Mayor! Kick off the Jews for Janeese campaign at our Chanukah launch party\, featuring live music\, latkes and doughnuts\, candle lighting\, and a chance to hear from Councilmember Lewis George about her vision for the District. Celebrate the festival of lights with Jews for Janeese\, and help light the way toward a brighter DC for all of us. \n \n \nOrganization: Jews United for Justice Campaign Fund \n \nLivestream or Virtual: No\, it’s not
URL:https://gatherdc.org/event/shehecheyanu-a-jews-for-janeese-chanukah-launch-party-with-jufj-campaign-fund/
LOCATION:City-State Brewing Company\, 705 Edgewood St NE\, Washington\, DC\, 20017\, United States
CATEGORIES:Giving Back
ORGANIZER;CN="Jenna Israel":MAILTO:jenna.israel@jufj.org
END:VEVENT
BEGIN:VEVENT
DTSTART;TZID=America/New_York:20251220T093000
DTEND;TZID=America/New_York:20251220T120000
DTSTAMP:20260419T192423
CREATED:20251222T160553Z
LAST-MODIFIED:20260108T134335Z
UID:10001440-1766223000-1766232000@gatherdc.org
SUMMARY:Saturday Morning Shabbat Services with Fabrangen Havurah
DESCRIPTION:Fabrangen is a community devoted to Torah\, community service\, and social justice activism.  \nWe warmly welcome everyone regardless of gender\, sexual orientation\, race\, ethnicity\, religious background or affiliation\, nationality\, disability\, or age to join us for Shabbat Services. \nFabrangen holds two types of Shabbat services: multi-access (hybrid) and Zoom only.\nServices begin at 9:30 a.m. preceded by online meditation at 9:00 a.m.\nCheck our calendar for the format for a particular Shabbat. \nThe in-person part of our multi-access services is held at the Washington Ethical Society\, 7750 16th Street\, N.W.\, Washington\, DC 20012 \nPlease email the Fabrangen Coordinator in advance to obtain the Zoom link. \n \nAccommodations: ADA Accessible Venue \n \nOrganization: Fabrangen Havurah \n \nLivestream or Virtual: Yes\, it is
URL:https://gatherdc.org/event/saturday-morning-shabbat-services-with-fabrangen-havurah-4/
LOCATION:Washington Ethical Society Building\, 7750 16th Street NW\, Washington\, DC\, 20012\, United States
CATEGORIES:Prayer Services
ORGANIZER;CN="Elena Rodriguez":MAILTO:coordinator@fabrangen.org
END:VEVENT
BEGIN:VEVENT
DTSTART;TZID=America/New_York:20251227T093000
DTEND;TZID=America/New_York:20251227T120000
DTSTAMP:20260419T192423
CREATED:20251222T160603Z
LAST-MODIFIED:20260108T134338Z
UID:10001457-1766827800-1766836800@gatherdc.org
SUMMARY:Saturday Morning Shabbat Services with Fabrangen Havurah
DESCRIPTION:Fabrangen is a community devoted to Torah\, community service\, and social justice activism.  \nWe warmly welcome everyone regardless of gender\, sexual orientation\, race\, ethnicity\, religious background or affiliation\, nationality\, disability\, or age to join us for Shabbat Services. \nFabrangen holds two types of Shabbat services: multi-access (hybrid) and Zoom only.\nServices begin at 9:30 a.m. preceded by online meditation at 9:00 a.m.\nCheck our calendar for the format for a particular Shabbat. \nThe in-person part of our multi-access services is held at the Washington Ethical Society\, 7750 16th Street\, N.W.\, Washington\, DC 20012 \nPlease email the Fabrangen Coordinator in advance to obtain the Zoom link. \n \nAccommodations: ADA Accessible Venue \n \nOrganization: Fabrangen Havurah \n \nLivestream or Virtual: Yes\, it is
URL:https://gatherdc.org/event/saturday-morning-shabbat-services-with-fabrangen-havurah-5/
LOCATION:Washington Ethical Society Building\, 7750 16th Street NW\, Washington\, DC\, 20012\, United States
CATEGORIES:Prayer Services
ORGANIZER;CN="Elena Rodriguez":MAILTO:coordinator@fabrangen.org
END:VEVENT
END:VCALENDAR