BEGIN:VCALENDAR
VERSION:2.0
PRODID:-//GatherDC - ECPv6.15.20//NONSGML v1.0//EN
CALSCALE:GREGORIAN
METHOD:PUBLISH
X-ORIGINAL-URL:https://gatherdc.org
X-WR-CALDESC:Events for GatherDC
REFRESH-INTERVAL;VALUE=DURATION:PT1H
X-Robots-Tag:noindex
X-PUBLISHED-TTL:PT1H
BEGIN:VTIMEZONE
TZID:America/New_York
BEGIN:DAYLIGHT
TZOFFSETFROM:-0500
TZOFFSETTO:-0400
TZNAME:EDT
DTSTART:20250309T070000
END:DAYLIGHT
BEGIN:STANDARD
TZOFFSETFROM:-0400
TZOFFSETTO:-0500
TZNAME:EST
DTSTART:20251102T060000
END:STANDARD
BEGIN:DAYLIGHT
TZOFFSETFROM:-0500
TZOFFSETTO:-0400
TZNAME:EDT
DTSTART:20260308T070000
END:DAYLIGHT
BEGIN:STANDARD
TZOFFSETFROM:-0400
TZOFFSETTO:-0500
TZNAME:EST
DTSTART:20261101T060000
END:STANDARD
BEGIN:DAYLIGHT
TZOFFSETFROM:-0500
TZOFFSETTO:-0400
TZNAME:EDT
DTSTART:20270314T070000
END:DAYLIGHT
BEGIN:STANDARD
TZOFFSETFROM:-0400
TZOFFSETTO:-0500
TZNAME:EST
DTSTART:20271107T060000
END:STANDARD
END:VTIMEZONE
BEGIN:VEVENT
DTSTART;TZID=America/New_York:20260308T103000
DTEND;TZID=America/New_York:20260308T120000
DTSTAMP:20260420T085854
CREATED:20260107T172747Z
LAST-MODIFIED:20260108T134354Z
UID:10001547-1772965800-1772971200@gatherdc.org
SUMMARY:Rabbi Angela Buchdal\, "Heart of a Stranger" with Washington Hebrew Congregation
DESCRIPTION:As the first Asian American to be ordained as a rabbi\, Rabbi Angela Buchdahl joins Washington Hebrew to share the fascinating story of her life in her new book\, Heart of a Stranger: An Unlikely Rabbi’s Story of Faith\, Identity\, and Belonging. This stirring memoir recounts her journey from feeling like an outsider to becoming one of the most admired religious leaders in the world. \n \nAccommodations: ADA Accessible Venue;Post-event Recording;Sensory Room Available \n \nOrganization: Washington Hebrew Congregation \n \nLivestream or Virtual: No\, it’s not
URL:https://gatherdc.org/event/rabbi-angela-buchdal-heart-of-a-stranger-with-washington-hebrew-congregation/
LOCATION:Washington Hebrew Congregation\, 3935 Macomb St NW\, Washington\, DC\, 20016\, United States
CATEGORIES:Learning
END:VEVENT
BEGIN:VEVENT
DTSTART;TZID=America/New_York:20260327T183000
DTEND;TZID=America/New_York:20260327T193000
DTSTAMP:20260420T085854
CREATED:20260324T144502Z
LAST-MODIFIED:20260324T144502Z
UID:10001976-1774636200-1774639800@gatherdc.org
SUMMARY:Refugee Shabbat Service with Temple Sinai
DESCRIPTION:Join us for Refugee Shabbat where we will honor refugees\, asylum seekers\, and displaced people. At this time when immigrants are being targeted\, we will learn from other communities who have stood up with their neighbors in order to educate and mobilize our local community. We will welcome Rabbi Jill Avrin\, Director of Campus Affairs at the Jewish Community Relations Council of Minnesota and the Dakotas. \nRabbi Avrin’s work addressing the ICE surge in Minnesota has included organizing and attending interfaith gatherings and vigils\, protesting\, advocacy\, education\, and mutual aid efforts. She helped host the 700 clergy who came to Minnesota in January with MARCH\, including national leaders from the Reform movement. She has been protesting at the Whipple building where detainees are still being held\, as well as at her local suburban protests. Rabbi Avrin has always centered social justice as a primary part of her portfolio as a rabbi. She was co-chair of the Minnesota Rabbinical Association in 2020\, when George Floyd was murdered\, and helped organize the Minnesota Jewish community’s united response at that time. In recent months\, she has taken a lead role in addressing Operation Metro Surge through her work at JCRC and YourJewish. \n \n \nOrganization: Temple Sinai \n \nLivestream or Virtual: Yes\, it is
URL:https://gatherdc.org/event/refugee-shabbat-service-with-temple-sinai/
LOCATION:Temple Sinai\, 3100 Military Road NW\, United States
CATEGORIES:Prayer Services
END:VEVENT
END:VCALENDAR