BEGIN:VCALENDAR
VERSION:2.0
PRODID:-//GatherDC - ECPv6.15.20//NONSGML v1.0//EN
CALSCALE:GREGORIAN
METHOD:PUBLISH
X-WR-CALNAME:GatherDC
X-ORIGINAL-URL:https://gatherdc.org
X-WR-CALDESC:Events for GatherDC
REFRESH-INTERVAL;VALUE=DURATION:PT1H
X-Robots-Tag:noindex
X-PUBLISHED-TTL:PT1H
BEGIN:VTIMEZONE
TZID:America/New_York
BEGIN:DAYLIGHT
TZOFFSETFROM:-0500
TZOFFSETTO:-0400
TZNAME:EDT
DTSTART:20250309T070000
END:DAYLIGHT
BEGIN:STANDARD
TZOFFSETFROM:-0400
TZOFFSETTO:-0500
TZNAME:EST
DTSTART:20251102T060000
END:STANDARD
BEGIN:DAYLIGHT
TZOFFSETFROM:-0500
TZOFFSETTO:-0400
TZNAME:EDT
DTSTART:20260308T070000
END:DAYLIGHT
BEGIN:STANDARD
TZOFFSETFROM:-0400
TZOFFSETTO:-0500
TZNAME:EST
DTSTART:20261101T060000
END:STANDARD
BEGIN:DAYLIGHT
TZOFFSETFROM:-0500
TZOFFSETTO:-0400
TZNAME:EDT
DTSTART:20270314T070000
END:DAYLIGHT
BEGIN:STANDARD
TZOFFSETFROM:-0400
TZOFFSETTO:-0500
TZNAME:EST
DTSTART:20271107T060000
END:STANDARD
END:VTIMEZONE
BEGIN:VEVENT
DTSTART;TZID=America/New_York:20260520T183000
DTEND;TZID=America/New_York:20260520T200000
DTSTAMP:20260420T085159
CREATED:20260414T161730Z
LAST-MODIFIED:20260414T161730Z
UID:10002029-1779301800-1779307200@gatherdc.org
SUMMARY:1st Meeting of Interfaith Couples Workshop with Sixth & I
DESCRIPTION:This is a four-week discussion-based course designed for couples in their 20s and early 30s. The workshop is held four to five times throughout the year. This cohort meets on Wednesdays\, May 20 – June 10 from 6:30 – 8:00 pm.  \nRabbi Aaron facilitates a guided\, nonjudgmental space for Jews and their non-Jewish partners to talk\, learn\, and grow – together and as individuals. Each week the class discusses case studies\, written by the couples\, on a specific instance that the Jewish and non-Jewish partner felt raised questions in their relationship.  \nWe are also currently running a promotion: Pride Shabbat and dinner on June 5 will be included for free with this cohort!  \nText studies and articles supplement the class. Couples should make time for an additional hour each week to discuss the case studies with their partners. \n \nAccommodations: ADA Accessible Venue \n \nOrganization: Sixth & I \n \nLivestream or Virtual: No\, it’s not
URL:https://gatherdc.org/event/1st-meeting-of-interfaith-couples-workshop-with-sixth-i/
LOCATION:Sixth & I\, 600 I Street\, NW\, Washington\, DC\, 20001\, United States
CATEGORIES:Other
END:VEVENT
BEGIN:VEVENT
DTSTART;TZID=America/New_York:20260526T183000
DTEND;TZID=America/New_York:20260526T200000
DTSTAMP:20260420T085159
CREATED:20260414T161902Z
LAST-MODIFIED:20260414T161902Z
UID:10002030-1779820200-1779825600@gatherdc.org
SUMMARY:1st Meeting of Basically Jewish with Sixth & I
DESCRIPTION:This five-week workshop meets Tuesdays\, May 26 – June 23. Attending Shabbat on Friday\, June 5 is a requirement of the course. \nRabbi Jenna leads an experiential introduction to Judaism course designed for those looking to reconnect with Judaism\, as well as non-Jews looking to discover. This five-week course allows students to develop a deeper connection with the Jewish faith through a digestible\, experiential introduction to Jewish traditions\, customs\, and rituals. \n \nAccommodations: ADA Accessible Venue \n \nOrganization: Sixth & I \n \nLivestream or Virtual: No\, it’s not
URL:https://gatherdc.org/event/1st-meeting-of-basically-jewish-with-sixth-i/
LOCATION:Sixth & I\, 600 I Street\, NW\, Washington\, DC\, 20001\, United States
CATEGORIES:Other
END:VEVENT
END:VCALENDAR