BEGIN:VCALENDAR
VERSION:2.0
PRODID:-//GatherDC - ECPv6.15.20//NONSGML v1.0//EN
CALSCALE:GREGORIAN
METHOD:PUBLISH
X-ORIGINAL-URL:https://gatherdc.org
X-WR-CALDESC:Events for GatherDC
REFRESH-INTERVAL;VALUE=DURATION:PT1H
X-Robots-Tag:noindex
X-PUBLISHED-TTL:PT1H
BEGIN:VTIMEZONE
TZID:America/New_York
BEGIN:DAYLIGHT
TZOFFSETFROM:-0500
TZOFFSETTO:-0400
TZNAME:EDT
DTSTART:20250309T070000
END:DAYLIGHT
BEGIN:STANDARD
TZOFFSETFROM:-0400
TZOFFSETTO:-0500
TZNAME:EST
DTSTART:20251102T060000
END:STANDARD
BEGIN:DAYLIGHT
TZOFFSETFROM:-0500
TZOFFSETTO:-0400
TZNAME:EDT
DTSTART:20260308T070000
END:DAYLIGHT
BEGIN:STANDARD
TZOFFSETFROM:-0400
TZOFFSETTO:-0500
TZNAME:EST
DTSTART:20261101T060000
END:STANDARD
BEGIN:DAYLIGHT
TZOFFSETFROM:-0500
TZOFFSETTO:-0400
TZNAME:EDT
DTSTART:20270314T070000
END:DAYLIGHT
BEGIN:STANDARD
TZOFFSETFROM:-0400
TZOFFSETTO:-0500
TZNAME:EST
DTSTART:20271107T060000
END:STANDARD
END:VTIMEZONE
BEGIN:VEVENT
DTSTART;TZID=America/New_York:20260305T190000
DTEND;TZID=America/New_York:20260305T203000
DTSTAMP:20260424T055934
CREATED:20251222T160626Z
LAST-MODIFIED:20260108T134344Z
UID:10001491-1772737200-1772742600@gatherdc.org
SUMMARY:Eilu v'Eilu: An Open Reflection Project with Am Kolel
DESCRIPTION:This gentle\, conversation-based program creates space for us to explore some of the most meaningful\, complicated\, and personal aspects of Jewish life. \nMany of the topics we’ll be discussing—God\, prayer\, Israel\, identity\, mortality\, and more—can be challenging to talk about\, even with people we know well. Eilu v’Eilu offers a warm\, guided space to dive deeply into our own thoughts and beliefs\, to practice articulating ideas that may feel tender or evolving\, and to listen generously to the experiences of others. \nEach session stands on its own\, and you’re warmly invited to join for as many—or as few—as you’d like. \nThese Thursday-evening Zoom gatherings (7:00–8:30 pm) are designed for curiosity\, honesty\, and genuine connection. There are no “right answers” to arrive at—just opportunities to reflect\, ask\, listen\, and share. \n \nAccommodations: ADA Accessible Venue \n \nOrganization: Am Kolel \n \nLivestream or Virtual: Yes\, it is
URL:https://gatherdc.org/event/eilu-veilu-an-open-reflection-project-with-am-kolel-7/
LOCATION:Zoom\, United States
CATEGORIES:Learning
ORGANIZER;CN="Melissa Eisen":MAILTO:admin@amkolel.org
END:VEVENT
BEGIN:VEVENT
DTSTART;TZID=America/New_York:20260312T190000
DTEND;TZID=America/New_York:20260312T203000
DTSTAMP:20260424T055934
CREATED:20251222T160626Z
LAST-MODIFIED:20260108T134345Z
UID:10001494-1773342000-1773347400@gatherdc.org
SUMMARY:Eilu v'Eilu: An Open Reflection Project with Am Kolel
DESCRIPTION:This gentle\, conversation-based program creates space for us to explore some of the most meaningful\, complicated\, and personal aspects of Jewish life. \nMany of the topics we’ll be discussing—God\, prayer\, Israel\, identity\, mortality\, and more—can be challenging to talk about\, even with people we know well. Eilu v’Eilu offers a warm\, guided space to dive deeply into our own thoughts and beliefs\, to practice articulating ideas that may feel tender or evolving\, and to listen generously to the experiences of others. \nEach session stands on its own\, and you’re warmly invited to join for as many—or as few—as you’d like. \nThese Thursday-evening Zoom gatherings (7:00–8:30 pm) are designed for curiosity\, honesty\, and genuine connection. There are no “right answers” to arrive at—just opportunities to reflect\, ask\, listen\, and share. \n \nAccommodations: ADA Accessible Venue \n \nOrganization: Am Kolel \n \nLivestream or Virtual: Yes\, it is
URL:https://gatherdc.org/event/eilu-veilu-an-open-reflection-project-with-am-kolel-9/
LOCATION:Zoom\, United States
CATEGORIES:Learning
ORGANIZER;CN="Melissa Eisen":MAILTO:admin@amkolel.org
END:VEVENT
BEGIN:VEVENT
DTSTART;TZID=America/New_York:20260319T190000
DTEND;TZID=America/New_York:20260319T203000
DTSTAMP:20260424T055934
CREATED:20251222T160626Z
LAST-MODIFIED:20260108T134345Z
UID:10001495-1773946800-1773952200@gatherdc.org
SUMMARY:Eilu v'Eilu: An Open Reflection Project with Am Kolel
DESCRIPTION:This gentle\, conversation-based program creates space for us to explore some of the most meaningful\, complicated\, and personal aspects of Jewish life. \nMany of the topics we’ll be discussing—God\, prayer\, Israel\, identity\, mortality\, and more—can be challenging to talk about\, even with people we know well. Eilu v’Eilu offers a warm\, guided space to dive deeply into our own thoughts and beliefs\, to practice articulating ideas that may feel tender or evolving\, and to listen generously to the experiences of others. \nEach session stands on its own\, and you’re warmly invited to join for as many—or as few—as you’d like. \nThese Thursday-evening Zoom gatherings (7:00–8:30 pm) are designed for curiosity\, honesty\, and genuine connection. There are no “right answers” to arrive at—just opportunities to reflect\, ask\, listen\, and share. \n \nAccommodations: ADA Accessible Venue \n \nOrganization: Am Kolel \n \nLivestream or Virtual: Yes\, it is
URL:https://gatherdc.org/event/eilu-veilu-an-open-reflection-project-with-am-kolel-10/
LOCATION:Zoom\, United States
CATEGORIES:Learning
ORGANIZER;CN="Melissa Eisen":MAILTO:admin@amkolel.org
END:VEVENT
BEGIN:VEVENT
DTSTART;TZID=America/New_York:20260326T190000
DTEND;TZID=America/New_York:20260326T203000
DTSTAMP:20260424T055934
CREATED:20251222T160627Z
LAST-MODIFIED:20260108T134345Z
UID:10001496-1774551600-1774557000@gatherdc.org
SUMMARY:Eilu v'Eilu: An Open Reflection Project with Am Kolel
DESCRIPTION:This gentle\, conversation-based program creates space for us to explore some of the most meaningful\, complicated\, and personal aspects of Jewish life. \nMany of the topics we’ll be discussing—God\, prayer\, Israel\, identity\, mortality\, and more—can be challenging to talk about\, even with people we know well. Eilu v’Eilu offers a warm\, guided space to dive deeply into our own thoughts and beliefs\, to practice articulating ideas that may feel tender or evolving\, and to listen generously to the experiences of others. \nEach session stands on its own\, and you’re warmly invited to join for as many—or as few—as you’d like. \nThese Thursday-evening Zoom gatherings (7:00–8:30 pm) are designed for curiosity\, honesty\, and genuine connection. There are no “right answers” to arrive at—just opportunities to reflect\, ask\, listen\, and share. \n \nAccommodations: ADA Accessible Venue \n \nOrganization: Am Kolel \n \nLivestream or Virtual: Yes\, it is
URL:https://gatherdc.org/event/eilu-veilu-an-open-reflection-project-with-am-kolel-11/
LOCATION:Zoom\, United States
CATEGORIES:Learning
ORGANIZER;CN="Melissa Eisen":MAILTO:admin@amkolel.org
END:VEVENT
END:VCALENDAR